Workbook

Sheet Urb MCS
B3: DINERO INGRESO | C3: 1917.20 | G3: 2025 | N3: 2026 | X3: 2026
E4: ABRIL | F4: MAYO | G4: JUNIO | H4: JULIO | I4: AGOSTO | J4: SETIEMBRE | K4: OCTUBRE | L4: NOVIEMBRE | M4: DICIEMBRE | N4: ENERO | O4: FEBRERO | P4: MARZO | Q4: ABRIL | R4: MAYO | S4: JUNIO | T4: JULIO | U4: AGOSTO | V4: SETIEMBRE | X4: OCTUBRE | Y4: NOVIEMBRE | Z4: DICIEMBRE | AA4: ENERO
B5: Calle Enrique Nerini | C5: Enrique Nerini | D5: Monto | E5: PAGOS | X5: ADELANTOS
B6: 105 | C6: Luis Jochamowitz | D6: 70 | G6: 70 | H6: 70 | I6: 70 | J6: 70 | K6: 70 | L6: 70 | M6: 70 | N6: 70 | O6: 70 | P6: 70 | Q6: 70 | R6: 70 | S6: 70 | T6: 70 | U6: 70 | V6: 70
B7: 117 | C7: Amparo de Pinillos | D7: 0
B8: 125 | C8: Sofia Rivero Passalacqua | D8: 70 | F8: 70 | G8: 70 | H8: 70 | I8: 70 | J8: 70 | K8: 70 | L8: 70 | M8: 70 | N8: 70 | O8: 70 | P8: 70 | Q8: 70 | R8: 70 | S8: 70 | T8: 70 | U8: 70 | V8: 70
B9: 133 | C9: Familia Gálvez | D9: 70 | L9: 70 | M9: 70 | N9: 70 | O9: 70 | P9: 70 | Q9: 70 | R9: 70 | S9: 70 | T9: 70 | U9: 70
B10: 149 | C10: Gustavo López Bustamante | D10: 70 | J10: 70 | K10: 70 | L10: 70 | M10: 70 | N10: 70 | O10: 70 | P10: 70 | Q10: 70 | R10: 70 | S10: 70 | T10: 70 | U10: 70
B11: 151 A | D11: 0
B12: 151 B | C12: Christian Estremadoyro | D12: 70 | J12: 70 | K12: 70 | L12: 70 | M12: 70 | N12: 70 | O12: 70 | P12: 70 | Q12: 70 | R12: 70 | S12: 70 | T12: 70 | U12: 70 | V12: 70
B13: 153 | C13: Ricardo Ríos | D13: 0
B14: 159 2do piso | C14: Fernando Leguía Murillo | D14: 70 | J14: 70 | K14: 70 | L14: 70 | M14: 70 | N14: 70 | O14: 70 | P14: 70 | Q14: 70 | R14: 70 | S14: 70 | T14: 70 | U14: 70
B15: 161 1er piso | C15: Gonzalo Pedreschi | D15: 70 | G15: 70 | H15: 70 | I15: 70 | J15: 70 | K15: 70 | L15: 70 | M15: 70
B16: 175 | C16: Graciela Carrillo Ugarte | D16: 70 | J16: 70 | K16: 70 | L16: 70 | M16: 70 | N16: 70 | O16: 70 | P16: 70 | Q16: 70 | R16: 70 | S16: 70 | T16: 70 | U16: 70 | V16: 70
B17: 177 - 181 | C17: Carlos Alberto Zegarra | D17: 70 | J17: 70 | K17: 70 | L17: 70 | M17: 70 | N17: 70 | O17: 70 | P17: 70 | Q17: 70 | R17: 70 | S17: 70 | T17: 70 | U17: 70 | V17: 70
C18: Carlos Alberto Zegarra | D18: 0
E19: =SUM(E6:E18) -> 0 | F19: =SUM(F6:F18) -> 70 | G19: =SUM(G6:G18) -> 210 | H19: =SUM(H6:H18) -> 210 | I19: =SUM(I6:I18) -> 210 | J19: =SUM(J6:J18) -> 560 | K19: =SUM(K6:K18) -> 560 | L19: =SUM(L6:L18) -> 630 | ... V19: =SUM(V6:V18) -> 350 | X19: =SUM(X6:X18) -> 0 | Y19: =SUM(Y6:Y18) -> 0 | Z19: =SUM(Z6:Z18) -> 0 | AA19: =SUM(AA6:AA18) -> 0
B21: Calle Alejandro Freundt | C21: Alejandro Freundt | D21: Monto | E21: PAGOS | X21: ADELANTOS
B22: 109/119 | C22: Edificio Mareia (Madrid) en construction | D22: 0
B23: 116 | C23: Enrique Fowks - casa en venta / vacía | D23: 0
B24: 124-A | C24: Carlos Martell Lamas | D24: 70 | G24: 70 | H24: 70 | I24: 70 | J24: 70 | K24: 70 | L24: 70 | M24: 70 | N24: 70 | O24: 70 | P24: 70 | Q24: 70 | R24: 70 | S24: 70
B25: 124-B | C25: Lucía Cano Correa | D25: 70 | G25: 70 | H25: 70 | I25: 70 | J25: 70 | K25: 70 | L25: 70 | M25: 70 | N25: 70 | O25: 70 | P25: 70 | Q25: 70 | R25: 70 | S25: 70 | T25: 70 | U25: 70 | V25: 70
B26: 131 | C26: María de los Ángeles Espi | D26: 50 | G26: 60 | H26: 60 | I26: 60 | J26: 60 | K26: 60 | L26: 60 | M26: 60 | N26: 50 | O26: 50 | P26: 50 | Q26: 50 | R26: 70 | S26: 60 | T26: 60 | U26: 70 | V26: 70
B27: 134-1er piso | C27: Hector Salas | D27: 70 | K27: 70 | L27: 70 | M27: 70 | N27: 70 | O27: 70 | P27: 70 | Q27: 70 | R27: 70 | S27: 70 | T27: 70 | U27: 70 | V27: 70
B28: 132-2do piso | C28: inquilina - Nicole Fort / dueño Héctor salas | D28: 0 | U28: 70
B29: 132-3er piso | C29: Karen Arbulú | D29: 70 | G29: 70 | H29: 70 | I29: 70 | J29: 70 | K29: 70 | L29: 70 | M29: 70 | N29: 70 | O29: 70 | P29: 70 | Q29: 70 | R29: 70 | S29: 70 | T29: 70 | U29: 70 | V29: 70
B30: 135 | C30: Armando Espinoza/Pilar Arauco | D30: 40 | G30: 40 | H30: 40 | I30: 40 | J30: 40 | K30: 40 | L30: 40 | M30: 40 | N30: 40 | O30: 40 | P30: 40 | Q30: 40 | R30: 40 | S30: 40 | T30: 40 | U30: 40
B31: 137 | C31: Carlos Recavarren | D31: 70 | G31: 70 | H31: 70 | I31: 70 | J31: 70 | K31: 70 | L31: 70 | M31: 70 | N31: 70 | O31: 70 | P31: 70 | Q31: 70 | R31: 70 | S31: 70 | T31: 70 | U31: 70
B32: 140 | C32: Maria Salas de Becerra | D32: 70 | G32: 70 | H32: 70 | I32: 70 | J32: 70 | K32: 70 | L32: 70
B33: 146-3er piso | C33: César Zelaya | D33: 70 | I33: 70 | J33: 70 | K33: 70
B34: 146- dpto 101 | C34: César Zelaya / (Legaspi) inquilino | D34: 70 | I34: 60 | J34: 60 | K34: 60 | L34: 60 | M34: 60
B35: 147 | C35: Margarita Arauco / Oscar Jiménez | D35: 70 | G35: 50 | H35: 50 | I35: 70 | J35: 70 | K35: 70 | L35: 70 | M35: 70 | N35: 70 | O35: 70 | P35: 70 | Q35: 70 | R35: 70 | S35: 70 | T35: 70 | U35: 70 | V35: 70
B36: 151 | C36: Guido Torres | D36: 0
B37: 150 | C37: Janet Silva | D37: 70 | I37: 70 | J37: 70 | K37: 70 | L37: 70 | M37: 70 | N37: 70 | O37: 70 | P37: 70 | Q37: 70 | R37: 70 | S37: 70 | T37: 70 | U37: 70 | V37: 70 | X37: 70
B38: 156 | C38: Lilia Chauca | D38: 0
B39: 160-162 | C39: Carlos Linares | D39: 0
B40: 172 -1er piso | C40: Charo Ramirez | D40: 70 | F40: 70 | G40: 70 | H40: 70 | I40: 70 | J40: 70 | K40: 70 | L40: 70 | M40: 70 | N40: 70 | O40: 70 | P40: 70 | R40: 100 | S40: 100 | T40: 100 | U40: 100
B41: 172-2do piso | C41: Susana Ramírez Llosa | D41: 35 | J41: 35 | K41: 35 | L41: 35 | M41: 35 | N41: 35 | O41: 35 | P41: 35 | Q41: 35
B42: 172 -3er piso | C42: inquilina / Laura Valencia | D42: 35 | J42: 35 | K42: 35 | L42: 35 | M42: 35 | N42: 35 | O42: 35 | P42: 35 | Q42: 35
B43: 173 | C43: Anke Kaulard | D43: 70 | G43: 70 | H43: 70 | I43: 70 | J43: 70 | K43: 70 | L43: 70 | M43: 70 | N43: 70 | O43: 70 | P43: 70 | Q43: 70 | R43: 70 | S43: 70 | T43: 70 | U43: 70 | V43: 70
...

Sheet TOTAL CALLE-MES
C2: 2025 | L2: 2026 | X2: 2027
C3: ABRIL | D3: MAYO | E3: JUNIO | F3: JULIO | G3: AGOSTO | H3: SETIEMBRE | I3: OCTUBRE | J3: NOVIEMBRE | K3: DICIEMBRE | L3: ENERO | M3: FEBRERO | N3: MARZO | O3: ABRIL | P3: MAYO | Q3: JUNIO | R3: JULIO | S3: AGOSTO | T3: SETIEMBRE | U3: OCTUBRE | V3: NOVIEMBRE | W3: DICIEMBRE | X3: ENERO | Y3: OTROS
B4: Calle Enrique Nerini | C4: =+'Urb MCS'!E19 -> 0 | D4: =+'Urb MCS'!F19 -> 70 | E4: =+'Urb MCS'!G19 -> 210 | F4: =+'Urb MCS'!H19 -> 210 | G4: =+'Urb MCS'!I19 -> 210 | H4: =+'Urb MCS'!J19 -> 560 | I4: =+'Urb MCS'!K19 -> 560 | J4: =+'Urb MCS'!L19 -> 630 | ... T4: =+'Urb MCS'!V19 -> 350 | U4: =+'Urb MCS'!X19 -> 0 | V4: =+'Urb MCS'!Y19 -> 0 | W4: =+'Urb MCS'!Z19 -> 0
B5: Calle Alejandro Freundt | C5: =+'Urb MCS'!E49 -> 0 | D5: =+'Urb MCS'!F49 -> 70 | E5: =+'Urb MCS'!G49 -> 795 | F5: =+'Urb MCS'!H49 -> 795 | G5: =+'Urb MCS'!I49 -> 1035 | H5: =+'Urb MCS'!J49 -> 1105 | I5: =+'Urb MCS'!K49 -> 1175 | J5: =+'Urb MCS'!L49 -> 1105 | ... T5: =+'Urb MCS'!V49 -> 560 | U5: =+'Urb MCS'!X49 -> 140 | V5: =+'Urb MCS'!Y49 -> 70 | W5: =+'Urb MCS'!Z47 -> 70 | X5: =+'Urb MCS'!AA49 -> 70
B6: Calle Othon Gastañeta | C6: =+'Urb MCS'!E69 -> 0 | D6: =+'Urb MCS'!F69 -> 0 | E6: =+'Urb MCS'!G69 -> 758.02 | F6: =+'Urb MCS'!H69 -> 748.21 | G6: =+'Urb MCS'!I69 -> 764.59 | H6: =+'Urb MCS'!J69 -> 710.23 | I6: =+'Urb MCS'!K69 -> 714.39 | J6: =+'Urb MCS'!L69 -> 714.35 | ... T6: =+'Urb MCS'!V69 -> 230 | U6: =+'Urb MCS'!X69 -> 70 | V6: =+'Urb MCS'!Y69 -> 0 | W6: =+'Urb MCS'!Z69 -> 0 | X6: =+'Urb MCS'!AA104 -> 0
B7: Calle Pastor Sevilla | C7: =+'Urb MCS'!E104 -> 0 | D7: =+'Urb MCS'!F104 -> 0 | E7: =+'Urb MCS'!G104 -> 410 | F7: =+'Urb MCS'!H104 -> 550 | G7: =+'Urb MCS'!I104 -> 620 | H7: =+'Urb MCS'!J104 -> 690 | I7: =+'Urb MCS'!K104 -> 690 | J7: =+'Urb MCS'!L104 -> 690 | ... T7: =+'Urb MCS'!V104 -> 570 | U7: =+'Urb MCS'!X104 -> 0 | V7: =+'Urb MCS'!Y104 -> 0 | W7: =+'Urb MCS'!Z104 -> 0 | X7: =+'Urb MCS'!AA104 -> 0
B8: Pasaje La Española | C8: =+'Urb MCS'!E118 -> 0 | D8: =+'Urb MCS'!F118 -> 70 | E8: =+'Urb MCS'!G118 -> 420 | F8: =+'Urb MCS'!H118 -> 560 | G8: =+'Urb MCS'!I118 -> 630 | H8: =+'Urb MCS'!J118 -> 630 | I8: =+'Urb MCS'!K118 -> 630 | J8: =+'Urb MCS'!L118 -> 630 | ... T8: =+'Urb MCS'!V118 -> 420 | U8: =+'Urb MCS'!X118 -> 140 | V8: =+'Urb MCS'!Y118 -> 70 | W8: =+'Urb MCS'!Z118 -> 70 | X8: =+'Urb MCS'!AA118 -> 0
B9: Malecón Costa Sur | C9: =+'Urb MCS'!E193 -> 1060 | D9: =+'Urb MCS'!F193 -> 1200 | E9: =+'Urb MCS'!G193 -> 3310 | F9: =+'Urb MCS'!H193 -> 3880 | G9: =+'Urb MCS'!I193 -> 3520 | H9: =+'Urb MCS'!J193 -> 3520 | I9: =+'Urb MCS'!K193 -> 3570 | J9: =+'Urb MCS'!L193 -> 3640 | ... T9: =+'Urb MCS'!V193 -> 1330 | U9: =+'Urb MCS'!X193 -> 280 | V9: =+'Urb MCS'!Y193 -> 210 | W9: =+'Urb MCS'!Z193 -> 140 | X9: =+'Urb MCS'!AA193 -> 60
B10: Daniel Urrea | C10: =+'Urb MCS'!E246 -> 0 | D10: =+'Urb MCS'!F246 -> 400 | E10: =+'Urb MCS'!G246 -> 903.3 | F10: =+'Urb MCS'!H246 -> 1221.7 | G10: =+'Urb MCS'!I246 -> 1320 | H10: =+'Urb MCS'!J246 -> 1380 | I10: =+'Urb MCS'!K246 -> 1265 | J10: =+'Urb MCS'!L246 -> 1265 | ... T10: =+'Urb MCS'!V246 -> 1120 | U10: =+'Urb MCS'!X246 -> 120 | V10: =+'Urb MCS'!Y246 -> 0 | W10: =+'Urb MCS'!Z246 -> 0 | X10: =+'Urb MCS'!AA246 -> 0
B11: Calle Dario Torres | C11: =+'Urb MCS'!E276 -> 0 | D11: =+'Urb MCS'!F276 -> 200 | E11: =+'Urb MCS'!G276 -> 620 | F11: =+'Urb MCS'!H276 -> 830 | G11: =+'Urb MCS'!I276 -> 830 | H11: =+'Urb MCS'!J276 -> 830 | I11: =+'Urb MCS'!K276 -> 970 | J11: =+'Urb MCS'!L276 -> 900 | ... T11: =+'Urb MCS'!V276 -> 830 | U11: =+'Urb MCS'!X276 -> 210 | V11: =+'Urb MCS'!Y276 -> 140 | W11: =+'Urb MCS'!Z276 -> 70 | X11: =+'Urb MCS'!AA276 -> 0
B12: Calle Ladislao Graña | C12: =+'Urb MCS'!E281 -> 0 | D12: =+'Urb MCS'!F281 -> 0 | E12: {=+'Urb MCS'!G281:V281} -> 70 | F12: 70 | G12: 70 | H12: 70 | I12: 70 | J12: 70 | K12: 140 | L12: 140 | M12: 140 | N12: 140 | O12: 140 | P12: 140 | Q12: 70 | R12: 70 | S12: 70 | T12: 0 | U12: =+'Urb MCS'!X281 -> 0 | V12: =+'Urb MCS'!Y281 -> 0 | W12: =+'Urb MCS'!Z281 -> 0 | X12: =+'Urb MCS'!AA281 -> 0
B14: TOTAL URBANIZACIÓN | C14: =SUM(C4:C13) -> 1060 | D14: =SUM(D4:D13) -> 2010 | E14: =SUM(E4:E13) -> 7496.32 | F14: =SUM(F4:F12) -> 8864.91 | G14: =SUM(G4:G13) -> 8999.59 | H14: =SUM(H4:H13) -> 9495.23 | I14: =SUM(I4:I13) -> 9644.39 | J14: =SUM(J4:J13) -> 9644.35 | K14: =SUM(K4:K13) -> 9545.02 | L14: =SUM(L4:L13) -> 10136.3 | M14: =SUM(M4:M13) -> 10919.92 | N14: =SUM(N4:N13) -> 11054.58 | ... T14: =SUM(T4:T13) -> 5410 | U14: =SUM(U4:U12) -> 960 | V14: =SUM(V4:V12) -> 490 | W14: =SUM(W4:W12) -> 350 | X14: =SUM(X4:X12) -> 130 | Z14: =AVERAGE(C14:X14) -> 7265.195
O17: Promedio junio a agosto | P17: =AVERAGE(E14:S14) -> 9961.6193
O18: =SUM(E14:S14) -> 149424.29

Sheet EGRESOS
D3: 2025 | M3: 2026
D4: ABRIL | E4: MAYO | F4: JUNIO | G4: JULIO | H4: AGOSTO | I4: SETIEMBRE | J4: OCTUBRE | K4: NOVIEMBRE | L4: DICIEMBRE | M4: ENERO | N4: FEBRERO | O4: MARZO | P4: ABRIL | Q4: MAYO | R4: JUNIO | S4: JULIO | T4: AGOSTO | U4: SETIEMBRE | V4: OCTUBRE | W4: NOVIEMBRE | X4: DICIEMBRE | Y4: OTROS
C5: Pago Seguridad Sr. Rosales (1ra quincena) | D5: 0 | E5: 0 | F5: 4200 | G5: 4200 | H5: 4200 | I5: 4200 | J5: 4200 | K5: 4200 | L5: 4200 | M5: 4200 | N5: 4200 | O5: 4200 | P5: 4200 | Q5: 4200 | R5: 4200 | S5: 4200 | T5: 4200 | U5: 4200
C6: Pago Seguridad Sr. Rosales (2da quincena) | D6: 0 | E6: 0 | F6: 4200 | G6: 4200 | H6: 4200 | I6: 4200 | J6: 4200 | K6: 4200 | L6: 4200 | M6: 4200 | N6: 4200 | O6: 4200 | P6: 4200 | Q6: 4200 | R6: 4200 | S6: 4200 | T6: 4200 | U6: 4200
C7: Pago Guillermo | D7: 0 | E7: 0 | F7: 800 | G7: 800 | H7: 800 | I7: 800 | J7: 800 | K7: 800 | L7: 800 | M7: 800 | N7: 800 | O7: 800 | P7: 800 | Q7: 800 | R7: 800 | S7: 800 | T7: 800 | U7: 800
C8: Pagos chapas/ mantenimiento - Sr. Eliceo | D8: 0 | E8: 0 | F8: 0 | G8: 0 | H8: 0 | I8: 0 | J8: 0 | K8: 0 | L8: 0 | M8: 0 | N8: 0 | O8: 1485 | P8: 0 | Q8: 554.8 | R8: 0 | S8: 0 | T8: 0 | U8: 0
C9: Copias de llaves | D9: 0 | E9: 0 | F9: 0 | G9: 0 | H9: 0 | I9: 30 | J9: 0 | K9: 0 | L9: 0 | M9: 30 | N9: 0 | O9: 90 | P9: 0 | Q9: 0 | R9: 0 | S9: 90 | T9: 0 | U9: 0
C10: Materiales - Utiles | D10: 0 | E10: 0 | F10: 0 | G10: 0 | H10: 0 | I10: 0 | J10: 0 | K10: 0 | L10: o | M10: 0 | N10: 0 | O10: 0 | P10: 0 | Q10: 0 | R10: 0 | S10: 0 | T10: 0 | U10: 0
C11: Compra de equipos y otros | D11: 0 | E11: 0 | F11: 0 | G11: 20 | H11: 30 | I11: 0 | J11: 0 | K11: 0 | L11: 0 | M11: 0 | N11: 0 | O11: 0 | P11: 0 | Q11: 0 | R11: 0 | S11: 0 | T11: 0 | U11: 0
C12: Otros | D12: 0 | E12: 0 | F12: 7.07 | G12: 0 | H12: 0 | I12: 0 | J12: 0 | K12: 0 | L12: o | M12: 0 | N12: 72 | O12: 0 | P12: 0 | Q12: 0 | R12: 0 | S12: 0 | T12: 0 | U12: 0
C13: TOTALES | D13: =SUM(D5:D12) -> 0 | E13: =SUM(E5:E12) -> 0 | F13: =SUM(F5:F12) -> 9207.07 | G13: =SUM(G5:G12) -> 9220 | H13: =SUM(H5:H12) -> 9230 | I13: =SUM(I5:I12) -> 9230 | J13: =SUM(J5:J12) -> 9200 | K13: =SUM(K5:K12) -> 9200 | ... U13: =SUM(U5:U12) -> 9200
C16: En Caja aún por actividad de Halloween para reparación de Reja (Detalle en otra ventana) | J16: 227.2 | M16: ITFS ACUMULADOS
C17: En Caja aún por actividad de Navidad para compra de Canastas, cena y bonos (Detalle en otra ventana) | J17: 26.4 | M17: JUNIO | N17: 0.6
M18: JULIO | N18: 0.45
M19: AGOSTO | N19: 0.05
M20: SETIEMBRE | N20: 0.05
M21: OCTUBRE | N21: 0.05
M22: NOVIEMBRE | N22: 0.05
M23: DICIEMBRE | N23: 0.5
M24: ENERO | N24: 0.45
M25: FEBRERO | N25: 0.45
M26: MARZO | N26: 0.45
M27: ABRIL | N27: 0.45
M28: MAYO | N28: 0.45
M29: JUNIO | N29: 0.45
... M32: SETIEMBRE | N32: 0.55
N33: =SUM(N17:N32) -> 5.9

Sheet TOTAL CTA
D2: 2025 | M2: 2026 | Y2: 2027
D3: ABRIL | E3: MAYO | F3: JUNIO | G3: JULIO | H3: AGOSTO | I3: SETIEMBRE | J3: OCTUBRE | K3: NOVIEMBRE | L3: DICIEMBRE | M3: ENERO | N3: FEBRERO | O3: MARZO | P3: ABRIL | Q3: MAYO | R3: JUNIO | S3: JULIO | T3: AGOSTO | U3: SETIEMBRE | V3: OCTUBRE | W3: NOVIEMBRE | X3: DICIEMBRE | Y3: ENERO
C4: INGRESOS POR MESES | D4: =+'TOTAL CALLE-MES'!C14 -> 1060 | E4: =+'TOTAL CALLE-MES'!D14 -> 2010 | F4: =+'TOTAL CALLE-MES'!E14 -> 7496.32 | G4: =+'TOTAL CALLE-MES'!F14 -> 8864.91 | H4: =+'TOTAL CALLE-MES'!G14 -> 8999.59 | I4: =+'TOTAL CALLE-MES'!H14 -> 9495.23 | J4: =+'TOTAL CALLE-MES'!I14 -> 9644.39 | K4: =+'TOTAL CALLE-MES'!J14 -> 9644.35 | ... Y4: =+'TOTAL CALLE-MES'!X14 -> 130
C5: EGRESOS POR MESES | D5: 0 | E5: 0 | F5: =+EGRESOS!F13 -> 9207.07 | G5: =+EGRESOS!G13 -> 9220 | H5: =+EGRESOS!H13 -> 9230 | I5: =+EGRESOS!I13 -> 9230 | J5: =+EGRESOS!J13 -> 9200 | K5: =+EGRESOS!K13 -> 9200 | L5: =+EGRESOS!L13 -> 9200 | M5: =+EGRESOS!M13 -> 9230 | ... Y5: =+EGRESOS!Y13 -> 0
C7: EN CAJA : | D7: =(D4-D5) -> 1060 | E7: =(E4-E5) -> 2010 | F7: =(F4-F5) -> -1710.75 | G7: =(G4-G5) -> -355.09 | H7: =(H4-H5) -> -230.41 | I7: =(I4-I5) -> 265.23 | J7: =(J4-J5) -> 444.39 | K7: =(K4-K5) -> 444.35 | ... Y7: =(Y4-Y5) -> 130
C9: INGRESOS TOTALES | D9: =(D7+E7+F7+G7+H7+I7+J7+K7+L7+M7+N7+O7+P7+Q7+R7+S7+T7+U7+V7+W7+X7+Y7+Z1) -> 10225.42 | F9: Extravios
C10: DINERO INGRESO (VICTOR) | D10: 1917.20 | F10: 46197 | G10: 50
C11: REJAS Sr. WALTER (Adelanto) | D11: 940 | F11: 46245 | G11: 70
C12: EXTRAVIOS | D12: =+G21 -> 1540 | F12: 46338 | G12: 100
C13: ITFS de todos los meses | D13: -5.9 | F13: 46371 | G13: 20
C14: EFECTIVO | D14: =SUM(D9:D13) -> 12699.52 | F14: 46069 | G14: 140
F15: 46089 | G15: 100
F16: 46093 | G16: 800
C17: SEPARADO (De DONACIONES) | D17: 253.60 | F17: 46095 | G17: 70
C18: (Detalle en Egresos) | F18: 46132 | G18: 70
F19: 46133 | G19: 70
C20: ADELANTOS | D20: =(V7+W7+X7+Y7) -> 1930 | F20: 46183 | G20: 50
G21: =SUM(G10:G20) -> 1540
C24: DEPOSITO AL BBVA | D24: 12694.75

Sheet Halloween-Oct
B2: COMPRA DE STICKERS Y DONACIONES | K2: COMPRA DE ENTRADAS FIESTA
C3: Fecha | D3: Nombre | E3: Monto (Stickers) | F3: Donaciones | G3: Detalle | H3: Total deposito | L3: Fecha | M3: Nombre | N3: Entrada | O3: Donaciones | P3: Detalle | S3: INGRESOS
B4: 1 | C4: 45925 | D4: Esther Oblitas | E4: S/.15.00 | G4: 1 sticker | H4: 15 | K4: 1 | L4: 45950 | M4: Ana Alvaro | O4: S/.100.00 | P4: Donación | S4: Stickers al 8 NOV | T4: S/.1,625.00
B5: 2 | C5: 45929 | D5: Elena Bambaren | F5: S/.100.00 | G5: donación | H5: 100 | K5: 2 | L5: 45952 | M5: Paola (malecón) | N5: S/.50.00 | P5: 1 niño | S5: Reu Halloween | T5: S/.2,920.00
B6: 3 | C6: 45929 | D6: Elena Bambaren | E6: S/.15.00 | G6: 1 sticker | H6: 15 | K6: 3 | L6: 45952 | M6: Lorena Valdez | N6: S/.50.00 | P6: 1 niño | S6: TOTAL INGRESOS | T6: S/.4,545.00
B7: 4 | C7: 45929 | D7: Familia Sanguinetti | E7: S/.30.00 | F7: S/.70.00 | G7: 2 stickers 70 donación | H7: 100 | K7: 4 | L7: 45952 | M7: Aissa (Alba y Giacomo) | N7: S/.90.00 | O7: S/.10.00 | P7: 2 niños
B8: 5 | C8: 45929 | D8: Valeria Osores | E8: S/.30.00 | G8: 2 stickers | H8: 30 | K8: 5 | L8: 45953 | M8: Valery Schroth | N8: S/.90.00 | O8: S/.10.00 | P8: 2 niños | S8: Gastos de fiesta
B9: 6 | C9: 45929 | D9: María Rubio | E9: S/.15.00 | G9: 3 stickers | H9: 45 | K9: 6 | L9: 45953 | M9: Familia Prieto (Roberto y Rodrigo) | N9: S/.90.00 | P9: 2 niños | T9: EGRESOS | U9: Detalle | V9: Fecha
B10: 7 | C10: 45929 | D10: Esteban Rubio | E10: S/.15.00 | K10: 7 | L10: 45953 | M10: Familia Santibañez (Leo y Valentina) | N10: S/.90.00 | P10: 2 niños | S10: Costo de Inflable | T10: S/.1,233.00 | U10: 2 pagos (620+613) | V10: 2025-10-27 y 31
B11: 8 | C11: 45929 | D11: Rafael Rubio | E11: S/.15.00 | K11: 8 | L11: 45954 | M11: Steve Walters | N11: S/.50.00 | P11: 1 niño | S11: Limpieza | T11: S/.40.00 | U11: limpieza malecón | V11: 45961
B12: 9 | C12: 45930 | D12: Francesca Denegri | E12: S/.30.00 | F12: S/.70.00 | G12: 2 stickers 70 donación | H12: 100 | K12: 9 | L12: 45954 | M12: Yago Salas | N12: S/.50.00 | P12: 1 niño | S12: TOTAL EGRESOS | T12: S/.1,273.00
B13: 10 | C13: 45930 | D13: Cesar Bustamante | E13: S/.30.00 | F13: S/.70.00 | G13: 2 stickers 70 donación | H13: 100 | K13: 10 | L13: 45954 | M13: Familia Luque (Salvador, Ariana y Teo) | N13: S/.130.00 | P13: 3 niños
B14: 11 | C14: 45930 | D14: Josmar | E14: S/.30.00 | G14: 2 stickers | H14: 30 | K14: 11 | L14: 45955 | M14: Cesar Bustamante | N14: S/.0.00 | O14: S/.50.00 | P14: Donación | S14: TOTAL RECAUDADO | T14: S/.3,272.00
B15: 12 | C15: 45930 | D15: María Cristina Ortiz (Tale) | E15: S/.45.00 | G15: 3 stickers | H15: 45 | K15: 12 | L15: 45955 | M15: Nahuel y Ariel | N15: S/.90.00 | P15: 2 niños | R15: OTRAS DONACIONES | S15: Amanda | T15: S/.100.00
B16: 13 | C16: 45930 | D16: Daniela Ferrini | E16: S/.15.00 | F16: S/.35.00 | G16: 1 sticker 35 donación | H16: 50 | K16: 13 | L16: 45955 | M16: Lucca Ucelli | N16: S/.90.00 | P16: 2 niños | S16: Percy Sanchez | T16: S/.100.00
B17: 14 | C17: 45929 | D17: Sofia | E17: S/.30.00 | F17: S/.70.00 | G17: 2 stickers 70 donación | H17: 100 | K17: 14 | L17: 45955 | M17: Aurelia Santa Cruz | N17: S/.50.00 | P17: 1 niña | S17: Wally Freita | T17: S/.100.00
B18: 15 | C18: 45930 | D18: Maria Angelica Portocarrero | E18: S/.15.00 | G18: 1 sticker | H18: 15 | K18: 15 | L18: 45961 | M18: Michelle (Santiago Pareja) | N18: S/.50.00 | P18: 1 niño | S18: Andrea | T18: S/.50.00
B19: 16 | C19: 45930 | D19: Georgina Santibañez | E19: S/.30.00 | G19: 2 sticker | H19: 30 | K19: 16 | L19: 45956 | M19: Rodolfo Calderón | N19: S/.50.00 | P19: 1 niño | S19: Maria Inez | T19: S/.125.00
B20: 17 | C20: 45930 | D20: Juan Carlos Celiz | E20: S/.30.00 | G20: 2 sticker | H20: 30 | K20: 17 | L20: 45956 | M20: STAND | N20: S/.80.00 | P20: Stand
B21: 18 | C21: 45930 | D21: Cesar Seminario (Española) | E21: S/.30.00 | G21: 2 sticker | H21: 30 | K21: 18 | L21: 45956 | M21: Eliot Fabing | N21: S/.50.00 | P21: 1 niño | S21: TOTAL CAJA | T21: S/.3,747.00
B22: 19 | C22: 45931 | D22: Rosemarie Lerner (Dario Torres) | E22: S/.15.00 | G22: 1 sticker | H22: 15 | K22: 19 | L22: 45956 | M22: STAND | N22: S/.80.00 | P22: Stand
B23: 20 | C23: 45933 | D23: Luis Monzón Goicochea | E23: S/.30.00 | G23: 2 stickers | H23: 30 | K23: 20 | L23: 45957 | M23: Luca y Luisa Scarafone | N23: S/.90.00 | P23: 2 niños
B24: 21 | C24: 45935 | D24: Jhonnt M (Médico freund) | E24: S/.15.00 | F24: S/.65.00 | G24: 1 sticker 65 donación | H24: 80 | K24: 21 | L24: 45957 | M24: Jihad y Tarek Kahatt | N24: S/.170.00 | P24: 2 niños + Stand | S24: Mantenimiento de reja
B25: 22 | C25: 45936 | D25: Valeria Arias | E25: S/.15.00 | G25: 1 Sticker | H25: 15 | K25: 22 | L25: 45957 | M25: Jaime Castro | N25: S/.50.00 | P25: 1 niño | S25: EGRESOS | T25: Detalle | U25: Fecha
B26: 23 | C26: 45937 | D26: Franklin Levano | E26: S/.30.00 | G26: 2 stickers | H26: 30 | K26: 23 | L26: 45957 | M26: Theo Cardenas | N26: S/.50.00 | P26: 1 niño | S26: S/.1,075.00 | T26: 50% adelanto trabajo | U26: 46340
B27: 24 | C27: 45947 | D27: Katrin Kalmurand | E27: S/.15.00 | G27: 1 Sticker | H27: 15 | K27: 24 | L27: 45958 | M27: Valentino Castañeda | N27: S/.50.00 | P27: 1 niño | S27: S/.975.00 | T27: cancelación trabajo | U27: 46347
B28: 25 | C28: 45947 | D28: Francisco Graña | E28: S/.15.00 | G28: 1 Sticker | H28: 15 | K28: 25 | L28: 45958 | M28: Milagros Villon | N28: S/.50.00 | P28: 1 niño | S28: S/.500.00 | T28: Cambio y soldadura de fierro | U28: 46347
B29: 26 | C29: 45947 | D29: Rocio Lecaros | E29: S/.15.00 | G29: 1 Sticker | H29: 15 | K29: 26 | L29: 45958 | M29: Stand | N29: S/.80.00 | P29: Stand | S29: S/.425.00 | T29: Adelanto Toldo | U29: 46352
B30: 27 | C30: 45948 | D30: Rose | E30: S/.30.00 | G30: 2 stickers | H30: 30 | K30: 27 | L30: 45959 | M30: Emiliano y Mariano Tantalean | N30: S/.90.00 | P30: 2 niños | S30: S/.425.00 | T30: Cancelación Toldo | U30: 46360
B31: 28 | C31: 45950 | D31: Ana Alvaro | F31: S/.100.00 | G31: donación | H31: 100 | K31: 28 | L31: 45960 | M31: Victoria Carrera | N31: S/.50.00 | P31: 1 niña | S31: S/.119.80 | T31: Cinta reflactaria | U31: 46347
B32: 29 | C32: 45950 | D32: Úrsula Caceres | E32: S/.30.00 | G32: 2 stickers | H32: 30 | K32: 29 | L32: 45960 | M32: Valery Schroth | N32: S/.40.00 | P32: 1 niña
B33: 30 | C33: 45951 | D33: Kia (1ra cuota) | F33: S/.200.00 | G33: Deuda | H33: 200 | K33: 30 | L33: 45960 | M33: Salvador Gallegos y Benjamin (primo) | N33: S/.90.00 | P33: 2 niños | S33: S/.3,519.80 | T33: Total Egresos
B34: 31 | C34: 45958 | D34: Georgina Santibañez | E34: S/.15.00 | G34: 1 Sticker | H34: 15 | K34: 31 | L34: 45960 | M34: Emilio y Alonso CArbonel | N34: S/.90.00 | P34: 2 niños
B35: 32 | C35: 45960 | D35: Kia (2da cuota) | F35: S/.200.00 | G35: Deuda | H35: 200 | K35: 32 | L35: 45960 | M35: Ramiro Cobian | N35: S/.50.00 | P35: 1 niño
E36: S/.645.00 | F36: 980 | H36: 1625 | K36: 33 | L36: 45961 | M36: Benjamin (niño) | N36: S/.50.00 | P36: 1 niño | S36: RESTA EN CAJA | T36: 227.20
E37: TOTAL | F37: S/.1,625.00 | K37: 34 | L37: 45961 | M37: Martina Caceres | N37: S/.50.00 | P37: 1 niño
K38: 35 | L38: 45961 | M38: Alessandro Wiese | N38: S/.50.00 | P38: 1 niño
K39: 36 | L39: 45961 | M39: Sol y Lua Arenillas | N39: S/.90.00 | P39: 2 niñas
K40: 37 | L40: 45961 | M40: Familia Maurer (4 niños) | N40: S/.180.00 | P40: 4 niños
K41: 38 | L41: 45961 | M41: Pago efectivo (Ursula y Marcelo) | N41: S/.100.00 | P41: 2 niños
...

Sheet Navidad-Dic
B2: Fecha | C2: Nombre | D2: Donaciones | E2: Detalle | F2: Total deposito
B3: 45996 | C3: Carolina Perez Esteves | D3: S/.60.00 | E3: Dario Torres | F3: x | N3: Ayudantes Urbanización | R3: Costo Canasta | S3: Fecha entrega | T3: Bono (yape) | V3: Cantidad | W3: Canasta | X3: Total
B4: 45996 | C4: Charo Ramirez Llosa | D4: S/.60.00 | E4: Freund | F4: x | O4: Seguridad: | V4: 6 | W4: Empresarial II | X4: S/.834.00
B5: 45996 | C5: Mozhdeh Matin | D5: S/.60.00 | E5: Malecón Costa Sur | F5: x | N5: 1.- | O5: Julio Jiménez | R5: S/.139.00 | S5: 46379 | T5: S/.200.00 | V5: 8 | W5: Básica III | X5: S/.280.00
B6: 45998 | C6: Ana Alvaro | D6: S/.100.00 | F6: x | N6: 2.- | O6: Jordan | R6: S/.139.00 | S6: 46379 | T6: S/.200.00 | W6: Envío | X6: S/.15.00
B7: 45998 | C7: Mountain View | D7: S/.20.00 | F7: x | N7: 3.- | O7: Carlos | R7: S/.139.00 | T7: S/.200.00 | X7: S/.1,129.00
B8: 45998 | C8: Familia Pastor | D8: S/.30.00 | E8: Malecón Costa Sur | F8: x | N8: 4.- | O8: Raúl | R8: S/.139.00 | S8: 46379 | T8: S/.200.00
B9: 46003 | C9: Gianfranco Loli | D9: S/.100.00 | E9: Malecón Costa Sur | F9: x | W9: EGRESOS
B10: 46003 | C10: Soledad Hidalgo | D10: S/.50.00 | E10: Nerini | F10: x | O10: Limpieza: | W10: Costo Canastas: | X10: S/.1,129.00
B11: 46003 | C11: Wally Freitas | D11: S/.100.00 | E11: Malecón Costa Sur | F11: x | N11: 5.- | O11: Ruth | R11: S/.139.00 | S11: 46379 | T11: S/.100.00 | W11: Bono Vigilantes: | X11: S/.800.00
B12: 46003 | C12: Familia Walters | D12: S/.100.00 | E12: Freund | F12: x | N12: 6.- | O12: José | R12: S/.139.00 | S12: 46377 | T12: S/.90.00 | W12: Bono Ruth y José: | X12: S/.190.00
B13: 46003 | C13: Karen Arbulu | D13: S/.60.00 | E13: Freund | F13: x | W13: Cena de Navidad | X13: S/.83.20
B14: 46003 | C14: Michael Fabing | D14: S/.60.00 | E14: Malecón Costa Sur | F14: x | O14: Apoyos: | W14: Gaseosas (Tambo) | X14: S/.10.00
B15: 46004 | C15: Mercedes Arauco | D15: S/.40.00 | F15: x | N15: 7.- | O15: Rómulo – ayudante | R15: S/.35.00 | S15: 24 Diciembre | W15: Cena Año Nuevo | X15: S/.131.40
B16: 46005 | C16: Cali Nielsen | D16: S/.100.00 | E16: Sevilla | F16: x | N16: 8.- | O16: Franklin - Transporte de todo tipo | R16: S/.35.00 | S16: 24 Diciembre | X16: S/.2,343.60
B17: 46005 | C17: Cesar Bustamante | D17: S/.100.00 | E17: Urrea | F17: x | N17: 9,. | O17: Alejandro – jardinero | R17: S/.35.00 | S17: 23 Diciembre
B18: 46005 | C18: Susana Cardenas | D18: S/.40.00 | E18: Urrea | F18: x | N18: 10.- | O18: Jacinta – entrega de periódicos | R18: S/.35.00 | S18: 24 Diciembre
B19: 46005 | C19: Familia Torres | D19: S/.60.00 | E19: Española | F19: x | N19: 11.- | O19: Oscar - vendedor de helados | R19: S/.35.00 | S19: 23 Diciembre
B20: 46006 | C20: Chio Lecaros | D20: S/.30.00 | E20: Malecón Costa Sur | F20: x | N20: 12.- | O20: David Méndez – conductor del camión de basura | R20: S/.35.00 | S20: 22 Diciembre
B21: 46006 | C21: Helen Aspi | D21: S/.50.00 | E21: Freund | F21: x | N21: 13.- | O21: Operario 1 camion de basura | R21: S/.35.00 | S21: 22 Diciembre
B22: 46006 | C22: Rosmarie Lerner | D22: S/.50.00 | E22: Dario Torres | F22: x | N22: 14.- | O22: Operario 2 camion de basura | R22: S/.35.00 | S22: 22 Diciembre
B23: 46006 | C23: Graciela Carrillo | D23: S/.50.00 | E23: Nerini | F23: x | N23: 15.- | O23: Envio | R23: S/.15.00
B24: 46006 | C24: Francesca Denegri | D24: S/.70.00 | E24: Española | F24: x | R24: S/.1,129.00
B25: 46006 | C25: Familia Maurer | D25: S/.70.00 | E25: Española | F25: x
B26: 46006 | C26: Cesar Seminario | D26: S/.70.00 | E26: Española | F26: x
B27: 46006 | C27: Otero Monteverde | D27: S/.60.00 | E27: Sevilla | F27: x
B28: 46007 | C28: Familia Carbonel Rázuri | D28: S/.100.00 | E28: Malecón Costa Sur | F28: x
B29: 46007 | C29: Familia Graña Arce | D29: S/.50.00 | E29: Malecón Costa Sur | F29: x
B30: 46007 | C30: Familia Leguia | D30: S/.30.00 | F30: x
B31: 46007 | C31: Familia Rivero | D31: S/.50.00 | F31: Michael
B32: 46008 | C32: Familia Sanguinetti | D32: S/.50.00 | F32: x
B33: 46008 | C33: Cristina Miranda | D33: S/.70.00 | E33: Dario Torres | F33: x
B34: 46009 | C34: Carlos Mayorga | D34: S/.60.00 | F34: Michael
B35: 46009 | C35: Familia Corzo Mayorga | D35: S/.60.00 | F35: Michael
B36: 46009 | C36: Familia Santibañez Bambarén | D36: S/.100.00 | E36: Malecón Costa Sur | F36: x
B37: 46009 | C37: Valeria | D37: S/.100.00 | F37: x
B38: 46013 | C38: Josmar | D38: S/.60.00 | E38: Gastañeta | F38: Michael
B39: 46013 | C39: Mila y Coco | D39: S/.30.00 | F39: Michael
B40: 46013 | C40: Familia Lapeyre | D40: S/.20.00 | F40: x
C41: Total : | D41: S/.2,370.00
...

Sheet Edificios 
J2: En Construcción | K2: Finalizado
C3: TOTAL
C4: Nerini | D4: 0 | H4: Freund | I4: Gastañeta | J4: Sevilla | K4: Malecón | L4: Urrea | M4: Dario Torres
C5: Freund | D5: 1 | H5: 109 - Edificio Mareia | I5: 135 - ARISE | J5: 218 - Sevilla | K5: 240 - Malecón | L5: 283 - Urrea | M5: 161 - Dario Tores
C6: Gastañeta | D6: 2 | I6: 190 - COSTA SUR | K6: 318- MAREIA | L6: 339 - Urrea | M6: 153 - MYKONOS
C7: Sevilla | D7: 1 | K7: 356 -VISTA MARINA | M7: 178 - Dario Torres
C8: Española | D8: 0 | K8: 366 - malecón
C9: Malecón | D9: 7 | K9: 376 - malecón
C10: Urrea | D10: 2 | K10: 400 - malecón
C11: Dario Torres | D11: 2 | K11: 521 - malecón
D12: =SUM(D4:D11) -> 15 | K12: 658 - FRONTERA
C16: PAGOS DE EDIFICIOS | E16: 2025 | N16: 2026
E17: ABRIL | F17: MAYO | G17: JUNIO | H17: JULIO | I17: AGOSTO | J17: SETIEMBRE | K17: OCTUBRE | L17: NOVIEMBRE | M17: DICIEMBRE | N17: ENERO | O17: FEBRERO | P17: MARZO | Q17: ABRIL | R17: MAYO | S17: JUINO | T17: JULIO | U17: AGOSTO | V17: SETIEMBRE
C18: 109 - Edificio Mareia | E18: 0 | F18: 0 | G18: 0 | H18: 0 | I18: 0 | J18: 0 | K18: 0 | L18: 0 | M18: 0 | N18: 0 | O18: 0 | P18: 0 | Q18: 0 | R18: 0 | S18: 0 | T18: 0 | U18: 0 | V18: 0
C19: 135 - ARISE | E19: 0 | F19: 0 | G19: 0 | H19: 0 | I19: 0 | J19: 0 | K19: 0 | L19: 0 | M19: 0 | N19: 0 | O19: 0 | P19: 30 | Q19: 30 | R19: 50 | S19: 50 | T19: 50 | U19: 70 | V19: 70
C20: 190 - COSTA SUR | E20: 438.32 | F20: 456.66 | G20: 458.02 | H20: 448.21 | I20: 444.59 | J20: 440.23 | K20: 444.39 | L20: 444.35 | M20: 445.02 | N20: 446.3 | O20: 449.92 | P20: 434.58 | Q20: 442.06 | R20: 434.62 | S20: 444.28 | T20: 430.1 | U20: 434.62 | V20: 452.57
C21: 218 - Sevilla | E21: 70 | F21: 70 | G21: 70 | H21: 70 | I21: 70 | J21: 70 | K21: 70 | L21: 70 | M21: 70 | N21: 70 | O21: 70 | P21: 120 | Q21: 150 | R21: 150 | S21: 150 | T21: 150 | U21: 150 | V21: 150
C22: 240 - Malecón | E22: 700 | F22: 700 | G22: 700 | H22: 700 | I22: 300 | J22: 300 | K22: 300 | L22: 300 | M22: 300 | N22: 300 | O22: 300 | P22: 300 | Q22: 300 | R22: 300 | S22: 300 | T22: 300 | U22: 300 | V22: 0
C23: 318- MAREIA | E23: 0 | F23: 0 | G23: 0 | H23: 0 | I23: 0 | J23: 0 | K23: 0 | L23: 0 | M23: 0 | N23: 0 | O23: 0 | P23: 0 | Q23: 0 | R23: 0 | S23: 0 | T23: 0 | U23: 0 | V23: 0
C24: 356 -VISTA MARINA | E24: 1040 | F24: 1040 | G24: 1040 | H24: 1040 | I24: 1040 | J24: 1040 | K24: 1040 | L24: 1040 | M24: 1040 | N24: 1200 | O24: 1770 | P24: 1770 | Q24: 1770 | R24: 1770 | S24: 1770 | T24: 1770 | U24: 1770 | V24: 1770
C25: 366 - malecón | E25: 540 | F25: 540 | G25: 540 | H25: 540 | I25: 540 | J25: 540 | K25: 540 | L25: 540 | M25: 540 | N25: 300 | O25: 300 | P25: 300 | Q25: 300 | R25: 300 | S25: 300 | T25: 300 | U25: 300 | V25: 300
C26: 376 - malecón | E26: 630 | F26: 630 | G26: 630 | H26: 630 | I26: 630 | J26: 630 | K26: 630 | L26: 630 | M26: 630 | N26: 560 | O26: 560 | P26: 560 | Q26: 560 | R26: 560 | S26: 560 | T26: 560 | U26: 560 | V26: 0
C27: 400 - malecón | E27: 500 | F27: 300 | G27: 300 | H27: 300 | I27: 300 | J27: 300 | K27: 300 | L27: 300 | M27: 300 | N27: 300 | O27: 300 | P27: 300 | Q27: 300 | R27: 300 | S27: 300 | T27: 300 | U27: 300 | V27: 300
C28: 521 - malecón | E28: 100 | F28: 100 | G28: 100 | H28: 100 | I28: 100 | J28: 100 | K28: 100 | L28: 100 | M28: 100 | N28: 100 | O28: 100 | P28: 100 | Q28: 100 | R28: 100 | S28: 100 | T28: 100 | U28: 100 | V28: 100
C29: 658 - FRONTERA | E29: 0 | F29: 0 | G29: 0 | H29: 0 | I29: 0 | J29: 0 | K29: 0 | L29: 0 | M29: 0 | N29: 350 | O29: 350 | P29: 350 | Q29: 350 | R29: 350 | S29: 350 | T29: 350 | U29: 350 | V29: 350
... C34: 178 - Dario Torres | E34: 70 | F34: 70 | G34: 70 | H34: 70 | I34: 70 | J34: 70 | K34: 70 | L34: 70 | M34: 70 | N34: 70 | O34: 70 | P34: 70 | Q34: 70 | R34: 70 | S34: 70 | T34: 70 | U34: 70 | V34: 70

Sheet Nerini
G2: 2025 | N2: 2026
E3: ABRIL | F3: MAYO | G3: JUNIO | H3: JULIO | I3: AGOSTO | J3: SETIEMBRE | K3: OCTUBRE | L3: NOVIEMBRE | M3: DICIEMBRE | N3: ENERO | O3: FEBRERO | P3: MARZO | Q3: ABRIL | R3: MAYO | S3: JUNIO | T3: JULIO | U3: AGOSTO | V3: SETIEMBRE | W3: OCTUBRE | X3: NOVIEMBRE | Y3: DICIEMBRE
B4: Calle Enrique Nerini | C4: Enrique Nerini | D4: Monto | E4: PAGOS
B5: 105 | C5: Luis Jochamowitz | D5: 70 | E5: {=+'Urb MCS'!E6:E19} -> 0 | F5: {=+'Urb MCS'!F6:F19} -> 0 | G5: =+'Urb MCS'!G6 -> 70 | H5: =+'Urb MCS'!H6 -> 70 | I5: =+'Urb MCS'!I6 -> 70 | J5: =+'Urb MCS'!J6 -> 70 | K5: =+'Urb MCS'!K6 -> 70 | L5: =+'Urb MCS'!L6 -> 70 | M5: =+'Urb MCS'!M6 -> 70 | N5: =+'Urb MCS'!N6 -> 70 | ... V5: =+'Urb MCS'!V6 -> 70 | W5: {=+'Urb MCS'!X6:X19} -> 0 | X5: {=+'Urb MCS'!Y6:Y19} -> 0 | Y5: {=+'Urb MCS'!Z6:Z19} -> 0
B6: 117 | C6: Amparo de Pinillos | D6: 0 | E6: 0 | F6: 0 | G6: =+'Urb MCS'!G7 -> 0 | H6: =+'Urb MCS'!H7 -> 0 | I6: =+'Urb MCS'!I7 -> 0 | J6: =+'Urb MCS'!J7 -> 0 | K6: =+'Urb MCS'!K7 -> 0 | L6: =+'Urb MCS'!L7 -> 0 | M6: =+'Urb MCS'!M7 -> 0 | N6: =+'Urb MCS'!N7 -> 0 | ... V6: =+'Urb MCS'!V7 -> 0 | W6: 0 | X6: 0 | Y6: 0
B7: 125 | C7: Sofia Rivero Passalacqua | D7: 70 | E7: 0 | F7: 70 | G7: =+'Urb MCS'!G8 -> 70 | H7: =+'Urb MCS'!H8 -> 70 | I7: =+'Urb MCS'!I8 -> 70 | J7: =+'Urb MCS'!J8 -> 70 | K7: =+'Urb MCS'!K8 -> 70 | L7: =+'Urb MCS'!L8 -> 70 | M7: =+'Urb MCS'!M8 -> 70 | N7: =+'Urb MCS'!N8 -> 70 | ... V7: =+'Urb MCS'!V8 -> 70 | W7: 0 | X7: 0 | Y7: 0
B8: 133 | C8: Familia Gálvez | D8: 70 | E8: 0 | F8: 0 | G8: =+'Urb MCS'!G9 -> 0 | H8: =+'Urb MCS'!H9 -> 0 | I8: =+'Urb MCS'!I9 -> 0 | J8: =+'Urb MCS'!J9 -> 0 | K8: =+'Urb MCS'!K9 -> 0 | L8: =+'Urb MCS'!L9 -> 70 | M8: =+'Urb MCS'!M9 -> 70 | N8: =+'Urb MCS'!N9 -> 70 | ... V8: =+'Urb MCS'!V9 -> 0 | W8: 0 | X8: 0 | Y8: 0
B9: 149 | C9: Gustavo López Bustamante | D9: 70 | E9: 0 | F9: 0 | G9: =+'Urb MCS'!G10 -> 0 | H9: =+'Urb MCS'!H10 -> 0 | I9: =+'Urb MCS'!I10 -> 0 | J9: =+'Urb MCS'!J10 -> 70 | K9: =+'Urb MCS'!K10 -> 70 | L9: =+'Urb MCS'!L10 -> 70 | M9: =+'Urb MCS'!M10 -> 70 | N9: =+'Urb MCS'!N10 -> 70 | ... V9: =+'Urb MCS'!V10 -> 0 | W9: 0 | X9: 0 | Y9: 0
B10: 151 A | D10: 0 | E10: 0 | F10: 0 | G10: =+'Urb MCS'!G11 -> 0 | H10: =+'Urb MCS'!H11 -> 0 | I10: =+'Urb MCS'!I11 -> 0 | J10: =+'Urb MCS'!J11 -> 0 | K10: =+'Urb MCS'!K11 -> 0 | L10: =+'Urb MCS'!L11 -> 0 | M10: =+'Urb MCS'!M11 -> 0 | N10: =+'Urb MCS'!N11 -> 0 | ... V10: =+'Urb MCS'!V11 -> 0 | W10: 0 | X10: 0 | Y10: 0
B11: 151 B | C11: Christian Estremadoyro | D11: 70 | E11: 0 | F11: 0 | G11: =+'Urb MCS'!G12 -> 0 | H11: =+'Urb MCS'!H12 -> 0 | I11: =+'Urb MCS'!I12 -> 0 | J11: =+'Urb MCS'!J12 -> 70 | K11: =+'Urb MCS'!K12 -> 70 | L11: =+'Urb MCS'!L12 -> 70 | M11: =+'Urb MCS'!M12 -> 70 | N11: =+'Urb MCS'!N12 -> 70 | ... V11: =+'Urb MCS'!V12 -> 70 | W11: 0 | X11: 0 | Y11: 0
B12: 153 | C12: Ricardo Ríos | D12: 0 | E12: 0 | F12: 0 | G12: =+'Urb MCS'!G13 -> 0 | H12: =+'Urb MCS'!H13 -> 0 | I12: =+'Urb MCS'!I13 -> 0 | J12: =+'Urb MCS'!J13 -> 0 | K12: =+'Urb MCS'!K13 -> 0 | L12: =+'Urb MCS'!L13 -> 0 | M12: =+'Urb MCS'!M13 -> 0 | N12: =+'Urb MCS'!N13 -> 0 | ... V12: =+'Urb MCS'!V13 -> 0 | W12: 0 | X12: 0 | Y12: 0
B13: 159 2do piso | C13: Fernando Leguía Murillo | D13: 70 | E13: 0 | F13: 0 | G13: =+'Urb MCS'!G14 -> 0 | H13: =+'Urb MCS'!H14 -> 0 | I13: =+'Urb MCS'!I14 -> 0 | J13: =+'Urb MCS'!J14 -> 70 | K13: =+'Urb MCS'!K14 -> 70 | L13: =+'Urb MCS'!L14 -> 70 | M13: =+'Urb MCS'!M14 -> 70 | N13: =+'Urb MCS'!N14 -> 70 | ... V13: =+'Urb MCS'!V14 -> 0 | W13: 0 | X13: 0 | Y13: 0
B14: 161 1er piso | C14: Gonzalo Pedreschi | D14: 70 | E14: 0 | F14: 0 | G14: =+'Urb MCS'!G15 -> 70 | H14: =+'Urb MCS'!H15 -> 70 | I14: =+'Urb MCS'!I15 -> 70 | J14: =+'Urb MCS'!J15 -> 70 | K14: =+'Urb MCS'!K15 -> 70 | L14: =+'Urb MCS'!L15 -> 70 | M14: =+'Urb MCS'!M15 -> 70 | N14: =+'Urb MCS'!N15 -> 0 | ... V14: =+'Urb MCS'!V15 -> 0 | W14: 0 | X14: 0 | Y14: 0
B15: 175 | C15: Graciela Carrillo Ugarte | D15: 70 | E15: 0 | F15: 0 | G15: =+'Urb MCS'!G16 -> 0 | H15: =+'Urb MCS'!H16 -> 0 | I15: =+'Urb MCS'!I16 -> 0 | J15: =+'Urb MCS'!J16 -> 70 | K15: =+'Urb MCS'!K16 -> 70 | L15: =+'Urb MCS'!L16 -> 70 | M15: =+'Urb MCS'!M16 -> 70 | N15: =+'Urb MCS'!N16 -> 70 | ... V15: =+'Urb MCS'!V16 -> 70 | W15: 0 | X15: 0 | Y15: 0
B16: 177 - 181 | C16: Carlos Alberto Zegarra | D16: 70 | E16: 0 | F16: 0 | G16: =+'Urb MCS'!G17 -> 0 | H16: =+'Urb MCS'!H17 -> 0 | I16: =+'Urb MCS'!I17 -> 0 | J16: =+'Urb MCS'!J17 -> 70 | K16: =+'Urb MCS'!K17 -> 70 | L16: =+'Urb MCS'!L17 -> 70 | M16: =+'Urb MCS'!M17 -> 70 | N16: =+'Urb MCS'!N17 -> 70 | ... V16: =+'Urb MCS'!V17 -> 70 | W16: 0 | X16: 0 | Y16: 0
C17: Carlos Alberto Zegarra | D17: 0 | E17: 0 | F17: 0 | G17: =+'Urb MCS'!G18 -> 0 | H17: =+'Urb MCS'!H18 -> 0 | I17: =+'Urb MCS'!I18 -> 0 | J17: =+'Urb MCS'!J18 -> 0 | K17: =+'Urb MCS'!K18 -> 0 | L17: =+'Urb MCS'!L18 -> 0 | M17: =+'Urb MCS'!M18 -> 0 | N17: =+'Urb MCS'!N18 -> 0 | ... V17: =+'Urb MCS'!V18 -> 0 | W17: 0 | X17: 0 | Y17: 0
E18: 0 | F18: 70 | G18: =+'Urb MCS'!G19 -> 210 | H18: =+'Urb MCS'!H19 -> 210 | I18: =+'Urb MCS'!I19 -> 210 | J18: =+'Urb MCS'!J19 -> 560 | K18: =+'Urb MCS'!K19 -> 560 | L18: =+'Urb MCS'!L19 -> 630 | M18: =+'Urb MCS'!M19 -> 630 | N18: =+'Urb MCS'!N19 -> 560 | ... V18: =+'Urb MCS'!V19 -> 350 | W18: 0 | X18: 0 | Y18: 0
W20: =AVERAGE(G18:U18) -> 499.33333

Sheet Freundt
F2: 2025 | N2: 2026
E3: ABRIL | F3: MAYO | G3: JUNIO | H3: JULIO | I3: AGOSTO | J3: SETIEMBRE | K3: OCTUBRE | L3: NOVIEMBRE | M3: DICIEMBRE | N3: ENERO | O3: FEBRERO | P3: MARZO | Q3: ABRIL | R3: MAYO | S3: JUNIO | T3: JULIO | U3: AGOSTO | V3: SETIEMBRE | W3: OCTUBRE | X3: NOVIEMBRE | Y3: DICIEMBRE
B4: Calle Alejandro Freundt | C4: Alejandro Freundt | D4: Monto | E4: PAGOS
B5: 109/119 | C5: Edificio Mareia (Madrid) en construction | D5: 0 | E5: {=+'Urb MCS'!E22:E49} -> 0 | F5: {=+'Urb MCS'!F22:F49} -> 0 | G5: =+'Urb MCS'!G22 -> 0 | H5: =+'Urb MCS'!H22 -> 0 | I5: =+'Urb MCS'!I22 -> 0 | J5: =+'Urb MCS'!J22 -> 0 | K5: =+'Urb MCS'!K22 -> 0 | L5: =+'Urb MCS'!L22 -> 0 | M5: =+'Urb MCS'!M22 -> 0 | N5: =+'Urb MCS'!N22 -> 0 | ... V5: =+'Urb MCS'!V22 -> 0 | W5: {=+'Urb MCS'!X22:X49} -> 0 | X5: {=+'Urb MCS'!Y22:Y49} -> 0 | Y5: {=+'Urb MCS'!Z22:Z49} -> 0
B6: 116 | C6: Enrique Fowks - casa en venta / vacía | D6: 0 | E6: 0 | F6: 0 | G6: =+'Urb MCS'!G23 -> 0 | H6: =+'Urb MCS'!H23 -> 0 | I6: =+'Urb MCS'!I23 -> 0 | J6: =+'Urb MCS'!J23 -> 0 | K6: =+'Urb MCS'!K23 -> 0 | L6: =+'Urb MCS'!L23 -> 0 | M6: =+'Urb MCS'!M23 -> 0 | N6: =+'Urb MCS'!N23 -> 0 | ... V6: =+'Urb MCS'!V23 -> 0 | W6: 0 | X6: 0 | Y6: 0
B7: 124-A | C7: Carlos Martell Lamas | D7: 70 | E7: 0 | F7: 0 | G7: =+'Urb MCS'!G24 -> 70 | H7: =+'Urb MCS'!H24 -> 70 | I7: =+'Urb MCS'!I24 -> 70 | J7: =+'Urb MCS'!J24 -> 70 | K7: =+'Urb MCS'!K24 -> 70 | L7: =+'Urb MCS'!L24 -> 70 | M7: =+'Urb MCS'!M24 -> 70 | N7: =+'Urb MCS'!N24 -> 70 | ... V7: =+'Urb MCS'!V24 -> 0 | W7: 0 | X7: 0 | Y7: 0
B8: 124-B | C8: Lucía Cano Correa | D8: 70 | E8: 0 | F8: 0 | G8: =+'Urb MCS'!G25 -> 70 | H8: =+'Urb MCS'!H25 -> 70 | I8: =+'Urb MCS'!I25 -> 70 | J8: =+'Urb MCS'!J25 -> 70 | K8: =+'Urb MCS'!K25 -> 70 | L8: =+'Urb MCS'!L25 -> 70 | M8: =+'Urb MCS'!M25 -> 70 | N8: =+'Urb MCS'!N25 -> 70 | ... V8: =+'Urb MCS'!V25 -> 70 | W8: 0 | X8: 0 | Y8: 0
B9: 131 | C9: María de los Ángeles Espi | D9: 70 | E9: 0 | F9: 0 | G9: =+'Urb MCS'!G26 -> 60 | H9: =+'Urb MCS'!H26 -> 60 | I9: =+'Urb MCS'!I26 -> 60 | J9: =+'Urb MCS'!J26 -> 60 | K9: =+'Urb MCS'!K26 -> 60 | L9: =+'Urb MCS'!L26 -> 60 | M9: =+'Urb MCS'!M26 -> 60 | N9: =+'Urb MCS'!N26 -> 50 | ... V9: =+'Urb MCS'!V26 -> 70 | W9: 0 | X9: 0 | Y9: 0
B10: 134-1er piso | C10: Hector Salas | D10: 70 | E10: 0 | F10: 0 | G10: =+'Urb MCS'!G27 -> 0 | H10: =+'Urb MCS'!H27 -> 0 | I10: =+'Urb MCS'!I27 -> 0 | J10: =+'Urb MCS'!J27 -> 0 | K10: =+'Urb MCS'!K27 -> 70 | L10: =+'Urb MCS'!L27 -> 70 | M10: =+'Urb MCS'!M27 -> 70 | N10: =+'Urb MCS'!N27 -> 70 | ... V10: =+'Urb MCS'!V27 -> 70 | W10: 0 | X10: 0 | Y10: 0
B11: 132-2do piso | C11: inquilina - Nicole Fort / dueño Héctor salas | D11: 0 | E11: 0 | F11: 0 | G11: =+'Urb MCS'!G28 -> 0 | H11: =+'Urb MCS'!H28 -> 0 | I11: =+'Urb MCS'!I28 -> 0 | J11: =+'Urb MCS'!J28 -> 0 | K11: =+'Urb MCS'!K28 -> 0 | L11: =+'Urb MCS'!L28 -> 0 | M11: =+'Urb MCS'!M28 -> 0 | N11: =+'Urb MCS'!N28 -> 0 | ... V11: =+'Urb MCS'!V28 -> 0 | W11: 0 | X11: 0 | Y11: 0
B12: 132-3er piso | C12: Karen Arbulú | D12: 70 | E12: 0 | F12: 0 | G12: =+'Urb MCS'!G29 -> 70 | H12: =+'Urb MCS'!H29 -> 70 | I12: =+'Urb MCS'!I29 -> 70 | J12: =+'Urb MCS'!J29 -> 70 | K12: =+'Urb MCS'!K29 -> 70 | L12: =+'Urb MCS'!L29 -> 70 | M12: =+'Urb MCS'!M29 -> 70 | N12: =+'Urb MCS'!N29 -> 70 | ... V12: =+'Urb MCS'!V29 -> 70 | W12: 0 | X12: 0 | Y12: 0
B13: 135 | C13: Armando Espinoza/Pilar Arauco | D13: 40 | E13: 0 | F13: 0 | G13: =+'Urb MCS'!G30 -> 40 | H13: =+'Urb MCS'!H30 -> 40 | I13: =+'Urb MCS'!I30 -> 40 | J13: =+'Urb MCS'!J30 -> 40 | K13: =+'Urb MCS'!K30 -> 40 | L13: =+'Urb MCS'!L30 -> 40 | M13: =+'Urb MCS'!M30 -> 40 | N13: =+'Urb MCS'!N30 -> 40 | ... V13: =+'Urb MCS'!V30 -> 0 | W13: 0 | X13: 0 | Y13: 0
B14: 137 | C14: Carlos Recavarren | D14: 70 | E14: 0 | F14: 0 | G14: =+'Urb MCS'!H31 -> 70 | H14: =+'Urb MCS'!H31 -> 70 | I14: =+'Urb MCS'!I31 -> 70 | J14: =+'Urb MCS'!J31 -> 70 | K14: =+'Urb MCS'!K31 -> 70 | L14: =+'Urb MCS'!L31 -> 70 | M14: =+'Urb MCS'!M31 -> 70 | N14: =+'Urb MCS'!N31 -> 70 | O14: =+'Urb MCS'!O31 -> 70 | ... T14: =+'Urb MCS'!T31 -> 70 | U14: 70 | V14: =+'Urb MCS'!V31 -> 0 | W14: 0 | X14: 0 | Y14: 0
B15: 140 | C15: Maria Salas de Becerra | D15: 0 | E15: 0 | F15: 0 | G15: =+'Urb MCS'!G32 -> 70 | H15: =+'Urb MCS'!H32 -> 70 | I15: =+'Urb MCS'!I32 -> 70 | J15: =+'Urb MCS'!J32 -> 70 | K15: =+'Urb MCS'!K32 -> 70 | L15: =+'Urb MCS'!L32 -> 70 | M15: =+'Urb MCS'!M32 -> 0 | N15: =+'Urb MCS'!N32 -> 0 | ... V15: =+'Urb MCS'!V32 -> 0 | W15: 0 | X15: 0 | Y15: 0
B16: 146-3er piso | C16: César Zelaya | D16: 0 | E16: 0 | F16: 0 | G16: =+'Urb MCS'!G33 -> 0 | H16: =+'Urb MCS'!H33 -> 0 | I16: {=+'Urb MCS'!I33:M33} -> 70 | J16: 70 | K16: 70 | L16: 0 | M16: 0 | N16: =+'Urb MCS'!N33 -> 0 | O16: =+'Urb MCS'!O33 -> 0 | P16: =+'Urb MCS'!P33 -> 0 | Q16: =+'Urb MCS'!Q33 -> 0 | R16: =+'Urb MCS'!R33 -> 0 | S16: =+'Urb MCS'!S33 -> 0 | T16: =+'Urb MCS'!T33 -> 0 | U16: =+'Urb MCS'!U33 -> 0 | V16: =+'Urb MCS'!V33 -> 0 | W16: 0 | X16: 0 | Y16: 0
B17: 146- dpto 101 | C17: César Zelaya / inquilino | D17: 0 | E17: 0 | F17: 0 | G17: =+'Urb MCS'!G34 -> 0 | H17: =+'Urb MCS'!I33 -> 70 | I17: =+'Urb MCS'!I34 -> 60 | J17: =+'Urb MCS'!J34 -> 60 | K17: =+'Urb MCS'!K34 -> 60 | L17: =+'Urb MCS'!J33 -> 70 | M17: =+'Urb MCS'!K33 -> 70 | N17: =+'Urb MCS'!N34 -> 0 | O17: =+'Urb MCS'!O34 -> 0 | P17: =+'Urb MCS'!P34 -> 0 | Q17: =+'Urb MCS'!Q34 -> 0 | R17: =+'Urb MCS'!R34 -> 0 | S17: =+'Urb MCS'!S34 -> 0 | T17: =+'Urb MCS'!T34 -> 0 | U17: =+'Urb MCS'!U34 -> 0 | V17: =+'Urb MCS'!V34 -> 0 | W17: 0 | X17: 0 | Y17: 0
B18: 147 | C18: Margarita Arauco / Oscar Jiménez | D18: 70 | E18: 0 | F18: 0 | G18: =+'Urb MCS'!G35 -> 50 | H18: =+'Urb MCS'!H35 -> 50 | I18: =+'Urb MCS'!I35 -> 70 | J18: =+'Urb MCS'!J35 -> 70 | K18: =+'Urb MCS'!K35 -> 70 | L18: =+'Urb MCS'!L35 -> 70 | M18: =+'Urb MCS'!M35 -> 70 | N18: =+'Urb MCS'!N35 -> 70 | ... V18: =+'Urb MCS'!V35 -> 70 | W18: 0 | X18: 0 | Y18: 0
B19: 151 | C19: Guido Torres | D19: 0 | E19: 0 | F19: 0 | G19: =+'Urb MCS'!G36 -> 0 | H19: =+'Urb MCS'!H36 -> 0 | I19: =+'Urb MCS'!I36 -> 0 | J19: =+'Urb MCS'!J36 -> 0 | K19: =+'Urb MCS'!K36 -> 0 | L19: =+'Urb MCS'!L36 -> 0 | M19: =+'Urb MCS'!M36 -> 0 | N19: =+'Urb MCS'!N36 -> 0 | ... V19: =+'Urb MCS'!V36 -> 0 | W19: 0 | X19: 0 | Y19: 0
B20: 150 | C20: Janet Silva | D20: 70 | E20: 0 | F20: 0 | G20: =+'Urb MCS'!G37 -> 0 | H20: =+'Urb MCS'!H37 -> 0 | I20: =+'Urb MCS'!I37 -> 70 | J20: =+'Urb MCS'!J37 -> 70 | K20: =+'Urb MCS'!K37 -> 70 | L20: =+'Urb MCS'!L37 -> 70 | M20: =+'Urb MCS'!M37 -> 70 | N20: =+'Urb MCS'!N37 -> 70 | ... V20: =+'Urb MCS'!V37 -> 70 | W20: 70 | X20: 0 | Y20: 0
B21: 156 | C21: Lilia Chauca | D21: 0 | E21: 0 | F21: 0 | G21: =+'Urb MCS'!G38 -> 0 | H21: =+'Urb MCS'!H38 -> 0 | I21: =+'Urb MCS'!I38 -> 0 | J21: =+'Urb MCS'!J38 -> 0 | K21: =+'Urb MCS'!K38 -> 0 | L21: =+'Urb MCS'!L38 -> 0 | M21: =+'Urb MCS'!M38 -> 0 | N21: =+'Urb MCS'!N38 -> 0 | ... V21: =+'Urb MCS'!V38 -> 0 | W21: 0 | X21: 0 | Y21: 0
B22: 160-162 | C22: Carlos Linares | D22: 0 | E22: 0 | F22: 0 | G22: =+'Urb MCS'!G39 -> 0 | H22: =+'Urb MCS'!H39 -> 0 | I22: =+'Urb MCS'!I39 -> 0 | J22: =+'Urb MCS'!J39 -> 0 | K22: =+'Urb MCS'!K39 -> 0 | L22: =+'Urb MCS'!L39 -> 0 | M22: =+'Urb MCS'!M39 -> 0 | N22: =+'Urb MCS'!N39 -> 0 | ... V22: =+'Urb MCS'!V39 -> 0 | W22: 0 | X22: 0 | Y22: 0
B23: 172 -1er piso | C23: Charo Ramirez | D23: 100 | E23: 0 | F23: 70 | G23: =+'Urb MCS'!G40 -> 70 | H23: =+'Urb MCS'!H40 -> 70 | I23: =+'Urb MCS'!I40 -> 70 | J23: =+'Urb MCS'!J40 -> 70 | K23: =+'Urb MCS'!K40 -> 70 | L23: =+'Urb MCS'!L40 -> 70 | M23: =+'Urb MCS'!M40 -> 70 | N23: =+'Urb MCS'!N40 -> 70 | ... R23: =+'Urb MCS'!R40 -> 100 | S23: =+'Urb MCS'!T40 -> 100 | T23: 100 | U23: =+'Urb MCS'!U40 -> 100 | V23: =+'Urb MCS'!V40 -> 0 | W23: 0 | X23: 0 | Y23: 0
B24: 172-2do piso | C24: Susana Ramírez Llosa | E24: 0 | F24: 0 | G24: =+'Urb MCS'!G41 -> 0 | H24: =+'Urb MCS'!H41 -> 0 | I24: =+'Urb MCS'!I41 -> 0 | J24: =+'Urb MCS'!J41 -> 35 | K24: =+'Urb MCS'!K41 -> 35 | L24: =+'Urb MCS'!L41 -> 35 | M24: =+'Urb MCS'!M41 -> 35 | N24: =+'Urb MCS'!N41 -> 35 | ... Q24: =+'Urb MCS'!Q41 -> 35 | V24: =+'Urb MCS'!V41 -> 0 | W24: 0 | X24: 0 | Y24: 0
B25: 172 -3er piso | C25: inquilina / Laura Valencia | E25: 0 | F25: 0 | G25: =+'Urb MCS'!G42 -> 0 | H25: =+'Urb MCS'!H42 -> 0 | I25: =+'Urb MCS'!I42 -> 0 | J25: =+'Urb MCS'!J42 -> 35 | K25: =+'Urb MCS'!K42 -> 35 | L25: =+'Urb MCS'!L42 -> 35 | M25: =+'Urb MCS'!M42 -> 35 | N25: =+'Urb MCS'!N42 -> 35 | ... Q25: =+'Urb MCS'!Q42 -> 35 | V25: =+'Urb MCS'!V42 -> 0 | W25: 0 | X25: 0 | Y25: 0
B26: 173 | C26: Anke Kaulard | D26: 70 | E26: 0 | F26: 0 | G26: =+'Urb MCS'!G43 -> 70 | H26: =+'Urb MCS'!H43 -> 70 | I26: =+'Urb MCS'!I43 -> 70 | J26: =+'Urb MCS'!J43 -> 70 | K26: =+'Urb MCS'!K43 -> 70 | L26: =+'Urb MCS'!L43 -> 70 | M26: =+'Urb MCS'!M43 -> 70 | N26: =+'Urb MCS'!N43 -> 70 | ... V26: =+'Urb MCS'!V43 -> 70 | W26: 0 | X26: 0 | Y26: 0
B27: 176 | C27: Familia Manrique | D27: 70 | E27: 0 | F27: 0 | G27: =+'Urb MCS'!G44 -> 50 | H27: =+'Urb MCS'!H44 -> 50 | I27: =+'Urb MCS'!I44 -> 70 | J27: =+'Urb MCS'!J44 -> 70 | K27: =+'Urb MCS'!K44 -> 70 | L27: =+'Urb MCS'!L44 -> 70 | M27: =+'Urb MCS'!M44 -> 70 | N27: =+'Urb MCS'!N44 -> 70 | ... V27: =+'Urb MCS'!V44 -> 0 | W27: 0 | X27: 0 | Y27: 0
B28: 179-2do piso | C28: Inquilina / Moira Caldas | D28: 35 | E28: 0 | F28: 0 | G28: =+'Urb MCS'!G45 -> 35 | H28: =+'Urb MCS'!H45 -> 35 | I28: =+'Urb MCS'!I45 -> 35 | J28: =+'Urb MCS'!J45 -> 35 | K28: =+'Urb MCS'!K45 -> 35 | L28: =+'Urb MCS'!L45 -> 35 | M28: =+'Urb MCS'!M45 -> 35 | N28: =+'Urb MCS'!N45 -> 35 | ... V28: =+'Urb MCS'!V45 -> 0 | W28: 0 | X28: 0 | Y28: 0
B29: 179-3er piso | C29: Dueña - Ana Arauco / inquilina - | D29: 0 | E29: 0 | F29: 0 | G29: =+'Urb MCS'!G46 -> 0 | H29: =+'Urb MCS'!H46 -> 0 | I29: =+'Urb MCS'!I46 -> 0 | J29: =+'Urb MCS'!J46 -> 0 | K29: =+'Urb MCS'!K46 -> 0 | L29: =+'Urb MCS'!L46 -> 0 | M29: =+'Urb MCS'!M46 -> 0 | N29: =+'Urb MCS'!N46 -> 0 | ... V29: =+'Urb MCS'!V46 -> 0 | W29: 0 | X29: 0 | Y29: 0
B30: 183 | C30: Hilda Fernández de Walters/Roxan | D30: 70 | E30: 0 | F30: 0 | G30: =+'Urb MCS'!G47 -> 70 | H30: =+'Urb MCS'!H47 -> 70 | I30: =+'Urb MCS'!I47 -> 70 | J30: =+'Urb MCS'!J47 -> 70 | K30: =+'Urb MCS'!K47 -> 70 | L30: =+'Urb MCS'!L47 -> 70 | M30: =+'Urb MCS'!M47 -> 70 | N30: =+'Urb MCS'!N47 -> 70 | ... V30: =+'Urb MCS'!V47 -> 70 | W30: 70 | X30: 70 | Y30: 70
B31: 193 | C31: Francisco Silva | D31: 0 | E31: 0 | F31: 0 | G31: =+'Urb MCS'!G48 -> 0 | H31: =+'Urb MCS'!H48 -> 0 | I31: =+'Urb MCS'!I48 -> 0 | J31: =+'Urb MCS'!J48 -> 0 | K31: =+'Urb MCS'!K48 -> 0 | L31: =+'Urb MCS'!L48 -> 0 | M31: =+'Urb MCS'!M48 -> 0 | N31: =+'Urb MCS'!N48 -> 0 | ... V31: =+'Urb MCS'!V48 -> 0 | W31: 0 | X31: 0 | Y31: 0
E32: 0 | F32: 70 | G32: =+'Urb MCS'!G49 -> 795 | H32: =+'Urb MCS'!H49 -> 795 | I32: =+'Urb MCS'!I49 -> 1035 | J32: =+'Urb MCS'!J49 -> 1105 | K32: =+'Urb MCS'!K49 -> 1175 | L32: =+'Urb MCS'!L49 -> 1105 | M32: =+'Urb MCS'!M49 -> 1035 | N32: =+'Urb MCS'!N49 -> 965 | ... V32: =+'Urb MCS'!V49 -> 560 | W32: 140 | X32: 70 | Y32: 70
W35: =AVERAGE(G32:U32) -> 959

Sheet Gastañeta
E2: 2025 | N2: 2026
E3: ABRIL | F3: MAYO | G3: JUNIO | H3: JULIO | I3: AGOSTO | J3: SETIEMBRE | K3: OCTUBRE | L3: NOVIEMBRE | M3: DICIEMBRE | N3: ENERO | O3: FEBRERO | P3: MARZO | Q3: ABRIL | R3: MAYO | S3: JUNIO | T3: JULIO | U3: AGOSTO | V3: SETIEMBRE | W3: OCTUBRE | X3: NOVIEMBRE | Y3: DICIEMBRE
B4: Calle Othon Gastañeta | C4: Othon Gastañeta | D4: Monto | E4: PAGOS
B5: 135 | C5: Nuevo proyecto Arise | D5: 0 | E5: {=+'Urb MCS'!E52:E69} -> 0 | F5: {=+'Urb MCS'!F52:F69} -> 0 | G5: =+'Urb MCS'!G52 -> 0 | H5: =+'Urb MCS'!H52 -> 0 | I5: =+'Urb MCS'!I52 -> 0 | J5: =+'Urb MCS'!J52 -> 0 | K5: =+'Urb MCS'!K52 -> 0 | L5: =+'Urb MCS'!L52 -> 0 | M5: =+'Urb MCS'!M52 -> 0 | N5: =+'Urb MCS'!N52 -> 0 | ... V5: =+'Urb MCS'!V52 -> 0 | W5: {=+'Urb MCS'!X52:X69} -> 0 | X5: {=+'Urb MCS'!Y52:Y69} -> 0 | Y5: {=+'Urb MCS'!Z52:Z69} -> 0
B6: 135 | C6: Edificio Arise (77 departamentos) | D6: 0 | E6: 0 | F6: 0 | G6: =+'Urb MCS'!G53 -> 70 | H6: =+'Urb MCS'!H53 -> 70 | I6: =+'Urb MCS'!I53 -> 70 | J6: =+'Urb MCS'!J53 -> 70 | K6: =+'Urb MCS'!K53 -> 70 | L6: =+'Urb MCS'!L53 -> 70 | M6: =+'Urb MCS'!M53 -> 0 | N6: =+'Urb MCS'!N53 -> 0 | ... V6: =+'Urb MCS'!V53 -> 0 | W6: 0 | X6: 0 | Y6: 0
B7: 135- dpto 1204 | C7: Anita Reátegui | D7: 30 | E7: 0 | F7: 0 | G7: =+'Urb MCS'!G54 -> 0 | H7: =+'Urb MCS'!H54 -> 0 | I7: =+'Urb MCS'!I54 -> 0 | J7: =+'Urb MCS'!J54 -> 0 | K7: =+'Urb MCS'!K54 -> 0 | L7: =+'Urb MCS'!L54 -> 0 | M7: =+'Urb MCS'!M54 -> 0 | N7: =+'Urb MCS'!N54 -> 0 | ... V7: =+'Urb MCS'!V54 -> 30 | W7: 0 | X7: 0 | Y7: 0
B8: 132-139 | C8: Carlos Mayorga | D8: 70 | E8: 0 | F8: 0 | G8: =+'Urb MCS'!G55 -> 70 | H8: =+'Urb MCS'!H55 -> 70 | I8: =+'Urb MCS'!I55 -> 70 | J8: =+'Urb MCS'!J55 -> 70 | K8: =+'Urb MCS'!K55 -> 70 | L8: =+'Urb MCS'!L55 -> 70 | M8: =+'Urb MCS'!M55 -> 70 | N8: =+'Urb MCS'!N55 -> 70 | ... V8: =+'Urb MCS'!V55 -> 70 | W8: 70 | X8: 0 | Y8: 0
B9: 154 | C9: Sebastián Arenillas | D9: 50 | E9: 0 | F9: 0 | G9: =+'Urb MCS'!G56 -> 50 | H9: =+'Urb MCS'!H56 -> 50 | I9: =+'Urb MCS'!I56 -> 50 | J9: =+'Urb MCS'!J56 -> 50 | K9: =+'Urb MCS'!K56 -> 50 | L9: =+'Urb MCS'!L56 -> 50 | M9: =+'Urb MCS'!M56 -> 50 | N9: =+'Urb MCS'!N56 -> 50 | ... V9: =+'Urb MCS'!V56 -> 50 | W9: 0 | X9: 0 | Y9: 0
B10: 158 | C10: Alejandro Pareja | D10: 0 | E10: 0 | F10: 0 | G10: =+'Urb MCS'!G57 -> 0 | H10: =+'Urb MCS'!H57 -> 0 | I10: =+'Urb MCS'!I57 -> 0 | J10: =+'Urb MCS'!J57 -> 0 | K10: =+'Urb MCS'!K57 -> 0 | L10: =+'Urb MCS'!L57 -> 0 | M10: =+'Urb MCS'!M57 -> 0 | N10: =+'Urb MCS'!N57 -> 0 | ... V10: =+'Urb MCS'!V57 -> 0 | W10: 0 | X10: 0 | Y10: 0
B11: 178A | C11: Ursula Cruz González | D11: 50 | E11: 0 | F11: 0 | G11: =+'Urb MCS'!G58 -> 50 | H11: =+'Urb MCS'!H58 -> 50 | I11: =+'Urb MCS'!I58 -> 50 | J11: =+'Urb MCS'!J58 -> 0 | K11: =+'Urb MCS'!K58 -> 0 | L11: =+'Urb MCS'!L58 -> 0 | M11: =+'Urb MCS'!M58 -> 50 | N11: =+'Urb MCS'!N58 -> 50 | ... S11: =+'Urb MCS'!S58 -> 50 | T11: 50 | U11: 50 | V11: =+'Urb MCS'!V58 -> 0 | W11: 0 | X11: 0 | Y11: 0
B12: 178B | C12: Nelly Gordillo | D12: 50 | E12: 0 | F12: 0 | G12: =+'Urb MCS'!G59 -> 50 | H12: =+'Urb MCS'!H59 -> 50 | I12: =+'Urb MCS'!I59 -> 50 | J12: =+'Urb MCS'!J59 -> 50 | K12: =+'Urb MCS'!K59 -> 50 | L12: =+'Urb MCS'!L59 -> 50 | M12: =+'Urb MCS'!M59 -> 50 | N12: =+'Urb MCS'!N59 -> 50 | ... V12: =+'Urb MCS'!V59 -> 50 | W12: 0 | X12: 0 | Y12: 0
B13: 188 | C13: Gustavo Araujo | D13: 0 | E13: 0 | F13: 0 | G13: =+'Urb MCS'!G60 -> 0 | H13: =+'Urb MCS'!H60 -> 0 | I13: =+'Urb MCS'!I60 -> 0 | J13: =+'Urb MCS'!J60 -> 0 | K13: =+'Urb MCS'!K60 -> 0 | L13: =+'Urb MCS'!L60 -> 0 | M13: =+'Urb MCS'!M60 -> 0 | N13: =+'Urb MCS'!N60 -> 0 | ... V13: =+'Urb MCS'!V60 -> 0 | W13: 0 | X13: 0 | Y13: 0
B14: 190 | C14: Edificio Costa Sur (47 departamentos) | D14: 500 | E14: 0 | F14: 0 | G14: =+'Urb MCS'!G61 -> 458.02 | H14: =+'Urb MCS'!H61 -> 448.21 | I14: =+'Urb MCS'!I61 -> 444.59 | J14: =+'Urb MCS'!J61 -> 440.23 | K14: =+'Urb MCS'!K61 -> 444.39 | L14: =+'Urb MCS'!L61 -> 444.35 | M14: =+'Urb MCS'!M61 -> 445.02 | N14: =+'Urb MCS'!N61 -> 446.3 | ... V14: =+'Urb MCS'!V61 -> 0 | W14: 0 | X14: 0 | Y14: 0
B15: 208-1er piso | D15: 0 | E15: 0 | F15: 0 | G15: =+'Urb MCS'!G62 -> 0 | H15: =+'Urb MCS'!H62 -> 0 | I15: =+'Urb MCS'!I62 -> 0 | J15: =+'Urb MCS'!J62 -> 0 | K15: =+'Urb MCS'!K62 -> 0 | L15: =+'Urb MCS'!L62 -> 0 | M15: =+'Urb MCS'!M62 -> 0 | N15: =+'Urb MCS'!N62 -> 0 | ... V15: =+'Urb MCS'!V62 -> 0 | W15: 0 | X15: 0 | Y15: 0
B16: 208-2do piso | D16: 0 | E16: 0 | F16: 0 | G16: =+'Urb MCS'!G63 -> 0 | H16: =+'Urb MCS'!H63 -> 0 | I16: =+'Urb MCS'!I63 -> 0 | J16: =+'Urb MCS'!J63 -> 0 | K16: =+'Urb MCS'!K63 -> 0 | L16: =+'Urb MCS'!L63 -> 0 | M16: =+'Urb MCS'!M63 -> 0 | N16: =+'Urb MCS'!N63 -> 0 | ... V16: =+'Urb MCS'!V63 -> 0 | W16: 0 | X16: 0 | Y16: 0
B17: 208 -3er piso | C17: Rocío Rojas | D17: 30 | E17: 0 | F17: 0 | G17: =+'Urb MCS'!G64 -> 10 | H17: =+'Urb MCS'!H64 -> 10 | I17: =+'Urb MCS'!I64 -> 30 | J17: =+'Urb MCS'!J64 -> 30 | K17: =+'Urb MCS'!K64 -> 30 | L17: =+'Urb MCS'!L64 -> 30 | M17: =+'Urb MCS'!M64 -> 30 | N17: =+'Urb MCS'!N64 -> 30 | ... V17: =+'Urb MCS'!V64 -> 30 | W17: 0 | X17: 0 | Y17: 0
B18: 218 | D18: 0 | E18: 0 | F18: 0 | G18: =+'Urb MCS'!G65 -> 0 | H18: =+'Urb MCS'!H65 -> 0 | I18: =+'Urb MCS'!I65 -> 0 | J18: =+'Urb MCS'!J65 -> 0 | K18: =+'Urb MCS'!K65 -> 0 | L18: =+'Urb MCS'!L65 -> 0 | M18: =+'Urb MCS'!M65 -> 0 | N18: =+'Urb MCS'!N65 -> 0 | ... V18: =+'Urb MCS'!V65 -> 0 | W18: 0 | X18: 0 | Y18: 0
B19: 236-A | C19: Dueño-IVO | D19: 0 | E19: 0 | F19: 0 | G19: =+'Urb MCS'!G66 -> 0 | H19: =+'Urb MCS'!H66 -> 0 | I19: =+'Urb MCS'!I66 -> 0 | J19: =+'Urb MCS'!J66 -> 0 | K19: =+'Urb MCS'!K66 -> 0 | L19: =+'Urb MCS'!L66 -> 0 | M19: =+'Urb MCS'!M66 -> 0 | N19: =+'Urb MCS'!N66 -> 0 | ... V19: =+'Urb MCS'!V66 -> 0 | W19: 0 | X19: 0 | Y19: 0
B20: 236-B | C20: Leopoldo O'Donnell | D20: 0 | E20: 0 | F20: 0 | G20: =+'Urb MCS'!G67 -> 0 | H20: =+'Urb MCS'!H67 -> 0 | I20: =+'Urb MCS'!I67 -> 0 | J20: =+'Urb MCS'!J67 -> 0 | K20: =+'Urb MCS'!K67 -> 0 | L20: =+'Urb MCS'!L67 -> 0 | M20: =+'Urb MCS'!M67 -> 0 | N20: =+'Urb MCS'!N67 -> 0 | ... V20: =+'Urb MCS'!V67 -> 0 | W20: 0 | X20: 0 | Y20: 0
B21: 248 | C21: Jean Pierre O´Donnell | D21: 0 | E21: 0 | F21: 0 | G21: =+'Urb MCS'!G68 -> 0 | H21: =+'Urb MCS'!H68 -> 0 | I21: =+'Urb MCS'!I68 -> 0 | J21: =+'Urb MCS'!J68 -> 0 | K21: =+'Urb MCS'!K68 -> 0 | L21: =+'Urb MCS'!L68 -> 0 | M21: =+'Urb MCS'!M68 -> 0 | N21: =+'Urb MCS'!N68 -> 0 | ... V21: =+'Urb MCS'!V68 -> 0 | W21: 0 | X21: 0 | Y21: 0
E22: 0 | F22: 0 | G22: =+'Urb MCS'!G69 -> 758.02 | H22: =+'Urb MCS'!H69 -> 748.21 | I22: =+'Urb MCS'!I69 -> 764.59 | J22: =+'Urb MCS'!J69 -> 710.23 | K22: =+'Urb MCS'!K69 -> 714.39 | L22: =+'Urb MCS'!L69 -> 714.35 | M22: =+'Urb MCS'!M69 -> 695.02 | N22: =+'Urb MCS'!N69 -> 696.3 | ... V22: =+'Urb MCS'!V69 -> 230 | W22: 70 | X22: 0 | Y22: 0
V25: =AVERAGE(G22:U22) -> 713.286

Sheet Sevilla
E2: 2025 | N2: 2026
E3: ABRIL | F3: MAYO | G3: JUNIO | H3: JULIO | I3: AGOSTO | J3: SETIEMBRE | K3: OCTUBRE | L3: NOVIEMBRE | M3: DICIEMBRE | N3: ENERO | O3: FEBRERO | P3: MARZO | Q3: ABRIL | R3: MAYO | S3: JUNIO | T3: JULIO | U3: AGOSTO | V3: SETIEMBRE | W3: OCTUBRE | X3: NOVIEMBRE | Y3: DICIEMBRE
B4: Calle Pastor Sevilla | C4: Pastor Sevilla | D4: Monto | E4: PAGOS
B5: 101 | C5: Carmen Guzmán | D5: 70 | E5: {=+'Urb MCS'!E72:E104} -> 0 | F5: {=+'Urb MCS'!F72:F104} -> 0 | G5: =+'Urb MCS'!G72 -> 70 | H5: =+'Urb MCS'!H72 -> 70 | I5: =+'Urb MCS'!I72 -> 70 | J5: =+'Urb MCS'!J72 -> 70 | K5: =+'Urb MCS'!K72 -> 70 | L5: =+'Urb MCS'!L72 -> 70 | M5: =+'Urb MCS'!M72 -> 70 | N5: =+'Urb MCS'!N72 -> 70 | ... V5: =+'Urb MCS'!V72 -> 0 | W5: {=+'Urb MCS'!X72:X104} -> 0 | X5: {=+'Urb MCS'!Y72:Y104} -> 0 | Y5: {=+'Urb MCS'!Z72:Z104} -> 0
B6: 123 | C6: Ursula Caceres | D6: 70 | E6: 0 | F6: 0 | G6: =+'Urb MCS'!G73 -> 70 | H6: =+'Urb MCS'!H73 -> 70 | I6: =+'Urb MCS'!I73 -> 70 | J6: =+'Urb MCS'!J73 -> 70 | K6: =+'Urb MCS'!K73 -> 70 | L6: =+'Urb MCS'!L73 -> 70 | M6: =+'Urb MCS'!M73 -> 70 | N6: =+'Urb MCS'!N73 -> 70 | ... V6: =+'Urb MCS'!V73 -> 70 | W6: 0 | X6: 0 | Y6: 0
B7: 135 | C7: dueña.Irma Rios/ inquilina Silvia Noriega | D7: 70 | E7: 0 | F7: 0 | G7: =+'Urb MCS'!G74 -> 70 | H7: =+'Urb MCS'!H74 -> 70 | I7: =+'Urb MCS'!I74 -> 70 | J7: =+'Urb MCS'!J74 -> 70 | K7: =+'Urb MCS'!K74 -> 70 | L7: =+'Urb MCS'!L74 -> 70 | M7: =+'Urb MCS'!M74 -> 70 | N7: =+'Urb MCS'!N74 -> 70 | ... V7: =+'Urb MCS'!V74 -> 70 | W7: 0 | X7: 0 | Y7: 0
B8: 137 | D8: 0 | E8: 0 | F8: 0 | G8: =+'Urb MCS'!G75 -> 0 | H8: =+'Urb MCS'!H75 -> 0 | I8: =+'Urb MCS'!I75 -> 0 | J8: =+'Urb MCS'!J75 -> 0 | K8: =+'Urb MCS'!K75 -> 0 | L8: =+'Urb MCS'!L75 -> 0 | M8: =+'Urb MCS'!M75 -> 0 | N8: =+'Urb MCS'!N75 -> 0 | ... V8: =+'Urb MCS'!V75 -> 0 | W8: 0 | X8: 0 | Y8: 0
B9: 147 | C9: Alicia y Patricia Melendez | D9: 70 | E9: 0 | F9: 0 | G9: =+'Urb MCS'!G76 -> 0 | H9: =+'Urb MCS'!H76 -> 70 | I9: =+'Urb MCS'!I76 -> 70 | J9: =+'Urb MCS'!J76 -> 70 | K9: =+'Urb MCS'!K76 -> 70 | L9: =+'Urb MCS'!L76 -> 70 | M9: =+'Urb MCS'!M76 -> 70 | N9: =+'Urb MCS'!N76 -> 70 | ... V9: =+'Urb MCS'!V76 -> 70 | W9: 0 | X9: 0 | Y9: 0
B10: 159 | C10: Familia Ovalle / inquilinos Éster Oblitas y Telmo Becerra | D10: 0 | E10: 0 | F10: 0 | G10: =+'Urb MCS'!G77 -> 0 | H10: =+'Urb MCS'!H77 -> 0 | I10: =+'Urb MCS'!I77 -> 0 | J10: =+'Urb MCS'!J77 -> 0 | K10: =+'Urb MCS'!K77 -> 0 | L10: =+'Urb MCS'!L77 -> 0 | M10: =+'Urb MCS'!M77 -> 0 | N10: =+'Urb MCS'!N77 -> 0 | ... V10: =+'Urb MCS'!V77 -> 0 | W10: 0 | X10: 0 | Y10: 0
B11: 165 | C11: dueña.Irma Rios/ inquilino Rodrigo Palacios | D11: 70 | E11: 0 | F11: 0 | G11: =+'Urb MCS'!G78 -> 0 | H11: =+'Urb MCS'!H78 -> 0 | I11: =+'Urb MCS'!I78 -> 70 | J11: =+'Urb MCS'!J78 -> 70 | K11: =+'Urb MCS'!K78 -> 70 | L11: =+'Urb MCS'!L78 -> 70 | M11: =+'Urb MCS'!M78 -> 70 | N11: =+'Urb MCS'!N78 -> 70 | ... V11: =+'Urb MCS'!V78 -> 0 | W11: 0 | X11: 0 | Y11: 0
B12: 167 | C12: Carlos Niezen Matas | D12: 70 | E12: 0 | F12: 0 | G12: =+'Urb MCS'!G79 -> 0 | H12: =+'Urb MCS'!H79 -> 0 | I12: =+'Urb MCS'!I79 -> 0 | J12: =+'Urb MCS'!J79 -> 0 | K12: =+'Urb MCS'!K79 -> 0 | L12: =+'Urb MCS'!L79 -> 0 | M12: =+'Urb MCS'!M79 -> 0 | N12: 70 | O12: =+'Urb MCS'!O79 -> 70 | P12: =+'Urb MCS'!P79 -> 70 | Q12: =+'Urb MCS'!Q79 -> 70 | R12: =+'Urb MCS'!R79 -> 70 | S12: =+'Urb MCS'!S79 -> 70 | T12: =+'Urb MCS'!T79 -> 70 | U12: =+'Urb MCS'!U79 -> 70 | V12: =+'Urb MCS'!V79 -> 70 | W12: 0 | X12: 0 | Y12: 0
B13: 175 | C13: Familia Vernal | D13: 70 | E13: 0 | F13: 0 | G13: =+'Urb MCS'!G80 -> 70 | H13: =+'Urb MCS'!H80 -> 70 | I13: =+'Urb MCS'!I80 -> 70 | J13: =+'Urb MCS'!J80 -> 70 | K13: =+'Urb MCS'!K80 -> 70 | L13: =+'Urb MCS'!L80 -> 70 | M13: =+'Urb MCS'!M80 -> 70 | N13: =+'Urb MCS'!N80 -> 70 | ... V13: =+'Urb MCS'!V80 -> 70 | W13: 0 | X13: 0 | Y13: 0
B14: 185 | D14: 0 | E14: 0 | F14: 0 | G14: =+'Urb MCS'!G81 -> 0 | H14: =+'Urb MCS'!H81 -> 0 | I14: =+'Urb MCS'!I81 -> 0 | J14: =+'Urb MCS'!J81 -> 0 | K14: =+'Urb MCS'!K81 -> 0 | L14: =+'Urb MCS'!L81 -> 0 | M14: =+'Urb MCS'!M81 -> 0 | N14: =+'Urb MCS'!N81 -> 0 | ... V14: =+'Urb MCS'!V81 -> 0 | W14: 0 | X14: 0 | Y14: 0
B15: 197 | C15: Ricardo Vila | D15: 70 | E15: 0 | F15: 0 | G15: =+'Urb MCS'!G82 -> 70 | H15: =+'Urb MCS'!H82 -> 70 | I15: =+'Urb MCS'!I82 -> 70 | J15: =+'Urb MCS'!J82 -> 70 | K15: =+'Urb MCS'!K82 -> 70 | L15: =+'Urb MCS'!L82 -> 70 | M15: =+'Urb MCS'!M82 -> 70 | N15: =+'Urb MCS'!N82 -> 70 | ... V15: =+'Urb MCS'!V82 -> 0 | W15: 0 | X15: 0 | Y15: 0
B16: 198-1er piso | D16: 0 | E16: 0 | F16: 0 | G16: =+'Urb MCS'!G83 -> 0 | H16: =+'Urb MCS'!H83 -> 0 | I16: =+'Urb MCS'!I83 -> 0 | J16: =+'Urb MCS'!J83 -> 0 | K16: =+'Urb MCS'!K83 -> 0 | L16: =+'Urb MCS'!L83 -> 0 | M16: =+'Urb MCS'!M83 -> 0 | N16: =+'Urb MCS'!N83 -> 0 | ... V16: =+'Urb MCS'!V83 -> 0 | W16: 0 | X16: 0 | Y16: 0
B17: 198-2do piso | D17: 0 | E17: 0 | F17: 0 | G17: =+'Urb MCS'!G84 -> 0 | H17: =+'Urb MCS'!H84 -> 0 | I17: =+'Urb MCS'!I84 -> 0 | J17: =+'Urb MCS'!J84 -> 0 | K17: =+'Urb MCS'!K84 -> 0 | L17: =+'Urb MCS'!L84 -> 0 | M17: =+'Urb MCS'!M84 -> 0 | N17: =+'Urb MCS'!N84 -> 0 | ... V17: =+'Urb MCS'!V84 -> 0 | W17: 0 | X17: 0 | Y17: 0
B18: 198-3er piso | D18: 0 | E18: 0 | F18: 0 | G18: =+'Urb MCS'!G85 -> 0 | H18: =+'Urb MCS'!H85 -> 0 | I18: =+'Urb MCS'!I85 -> 0 | J18: =+'Urb MCS'!J85 -> 0 | K18: =+'Urb MCS'!K85 -> 0 | L18: =+'Urb MCS'!L85 -> 0 | M18: =+'Urb MCS'!M85 -> 0 | N18: =+'Urb MCS'!N85 -> 0 | ... V18: =+'Urb MCS'!V85 -> 0 | W18: 0 | X18: 0 | Y18: 0
B19: 207 | C19: Edward Horna | D19: 0 | E19: 0 | F19: 0 | G19: =+'Urb MCS'!G86 -> 0 | H19: =+'Urb MCS'!H86 -> 0 | I19: =+'Urb MCS'!I86 -> 0 | J19: =+'Urb MCS'!J86 -> 0 | K19: =+'Urb MCS'!K86 -> 0 | L19: =+'Urb MCS'!L86 -> 0 | M19: =+'Urb MCS'!M86 -> 0 | N19: =+'Urb MCS'!N86 -> 0 | ... V19: =+'Urb MCS'!V86 -> 0 | W19: 0 | X19: 0 | Y19: 0
